BEGIN:VCALENDAR
VERSION:2.0
PRODID:-//Ed &amp; Joe&#039;s Restaurant &amp; Pizzeria - ECPv6.15.20//NONSGML v1.0//EN
CALSCALE:GREGORIAN
METHOD:PUBLISH
X-WR-CALNAME:Ed &amp; Joe&#039;s Restaurant &amp; Pizzeria
X-ORIGINAL-URL:https://ednjoes.com
X-WR-CALDESC:Events for Ed &amp; Joe&#039;s Restaurant &amp; Pizzeria
REFRESH-INTERVAL;VALUE=DURATION:PT1H
X-Robots-Tag:noindex
X-PUBLISHED-TTL:PT1H
BEGIN:VTIMEZONE
TZID:America/Chicago
BEGIN:DAYLIGHT
TZOFFSETFROM:-0600
TZOFFSETTO:-0500
TZNAME:CDT
DTSTART:20240310T080000
END:DAYLIGHT
BEGIN:STANDARD
TZOFFSETFROM:-0500
TZOFFSETTO:-0600
TZNAME:CST
DTSTART:20241103T070000
END:STANDARD
BEGIN:DAYLIGHT
TZOFFSETFROM:-0600
TZOFFSETTO:-0500
TZNAME:CDT
DTSTART:20250309T080000
END:DAYLIGHT
BEGIN:STANDARD
TZOFFSETFROM:-0500
TZOFFSETTO:-0600
TZNAME:CST
DTSTART:20251102T070000
END:STANDARD
BEGIN:DAYLIGHT
TZOFFSETFROM:-0600
TZOFFSETTO:-0500
TZNAME:CDT
DTSTART:20260308T080000
END:DAYLIGHT
BEGIN:STANDARD
TZOFFSETFROM:-0500
TZOFFSETTO:-0600
TZNAME:CST
DTSTART:20261101T070000
END:STANDARD
END:VTIMEZONE
BEGIN:VEVENT
DTSTART;TZID=America/Chicago:20251005T153000
DTEND;TZID=America/Chicago:20251005T183000
DTSTAMP:20260424T122917
CREATED:20250920T170402Z
LAST-MODIFIED:20251003T200750Z
UID:10004057-1759678200-1759689000@ednjoes.com
SUMMARY:Stillgrass Tribute to John Prine
DESCRIPTION:Annie and Kevin Kincaid\, Hall Hanes\,  Jim Williams\, and Scott Bonshire:  A harvest of tone: Fiddle\, Guitar\, Bass and Harp\, as natural as can be…blending rosewood\, spruce\, mahogany\, maple\, harp reeds\, picks and bows and foot stompin’ soles … a Celebration of Song with a Bluegrass Edge!  The set list includes their own homespun numbers along with covers of the great American masters: John Prine\, Peter Rowan\, Lyle Lovett\, Kevin Welch\, Guy Clark\, Steve Earle\, Gillian Welsh\, John Hiatt\, Johnny Cash…you get the picture…it’s all about the songs and the sharing.
URL:https://ednjoes.com/event/stillgrass-tribute-to-john-prine/
LOCATION:17332 S. Oak Park Ave\, Tinley Park\, IL\, 60477\, United States
CATEGORIES:Ed & Joes,Live Music,Social
ATTACH;FMTTYPE=image/png:https://ednjoes.com/wp-content/uploads/2021/08/StillGrass-2019.png
END:VEVENT
BEGIN:VEVENT
DTSTART;TZID=America/Chicago:20251025T190000
DTEND;TZID=America/Chicago:20251025T220000
DTSTAMP:20260424T122917
CREATED:20250829T173947Z
LAST-MODIFIED:20250829T173947Z
UID:10004027-1761418800-1761429600@ednjoes.com
SUMMARY:Still Grass
DESCRIPTION:Annie and Kevin Kincaid\, Hall Hanes\,  Jim Williams\, and Scott Bonshire:  A harvest of tone: Fiddle\, Guitar\, Bass and Harp\, as natural as can be…blending rosewood\, spruce\, mahogany\, maple\, harp reeds\, picks and bows and foot stompin’ soles … a Celebration of Song with a Bluegrass Edge!  The set list includes their own homespun numbers along with covers of the great American masters: John Prine\, Peter Rowan\, Lyle Lovett\, Kevin Welch\, Guy Clark\, Steve Earle\, Gillian Welsh\, John Hiatt\, Johnny Cash…you get the picture…it’s all about the songs and the sharing.
URL:https://ednjoes.com/event/still-grass-2/
LOCATION:17332 S. Oak Park Ave\, Tinley Park\, IL\, 60477\, United States
CATEGORIES:Ed & Joes,Live Music,Social
ATTACH;FMTTYPE=image/png:https://ednjoes.com/wp-content/uploads/2021/08/StillGrass-2019.png
END:VEVENT
END:VCALENDAR