BEGIN:VCALENDAR
VERSION:2.0
PRODID:-//Ed &amp; Joe&#039;s Restaurant &amp; Pizzeria - ECPv6.15.20//NONSGML v1.0//EN
CALSCALE:GREGORIAN
METHOD:PUBLISH
X-WR-CALNAME:Ed &amp; Joe&#039;s Restaurant &amp; Pizzeria
X-ORIGINAL-URL:https://ednjoes.com
X-WR-CALDESC:Events for Ed &amp; Joe&#039;s Restaurant &amp; Pizzeria
REFRESH-INTERVAL;VALUE=DURATION:PT1H
X-Robots-Tag:noindex
X-PUBLISHED-TTL:PT1H
BEGIN:VTIMEZONE
TZID:America/Chicago
BEGIN:DAYLIGHT
TZOFFSETFROM:-0600
TZOFFSETTO:-0500
TZNAME:CDT
DTSTART:20240310T080000
END:DAYLIGHT
BEGIN:STANDARD
TZOFFSETFROM:-0500
TZOFFSETTO:-0600
TZNAME:CST
DTSTART:20241103T070000
END:STANDARD
BEGIN:DAYLIGHT
TZOFFSETFROM:-0600
TZOFFSETTO:-0500
TZNAME:CDT
DTSTART:20250309T080000
END:DAYLIGHT
BEGIN:STANDARD
TZOFFSETFROM:-0500
TZOFFSETTO:-0600
TZNAME:CST
DTSTART:20251102T070000
END:STANDARD
BEGIN:DAYLIGHT
TZOFFSETFROM:-0600
TZOFFSETTO:-0500
TZNAME:CDT
DTSTART:20260308T080000
END:DAYLIGHT
BEGIN:STANDARD
TZOFFSETFROM:-0500
TZOFFSETTO:-0600
TZNAME:CST
DTSTART:20261101T070000
END:STANDARD
END:VTIMEZONE
BEGIN:VEVENT
DTSTART;TZID=America/Chicago:20251017T190000
DTEND;TZID=America/Chicago:20251017T220000
DTSTAMP:20260425T122440
CREATED:20251016T182940Z
LAST-MODIFIED:20251016T182940Z
UID:10004069-1760727600-1760738400@ednjoes.com
SUMMARY:SmackWater
DESCRIPTION:SmackWater is an acoustic performance group with a genre-defying sound and a passion for heartfelt performance. Blending warm harmonies\, intricate guitar work\, and soulful vocals\, we bring a fresh acoustic twist to everything from folk and pop to rock\, R&B\, country\, and beyond. \nWhether it’s reimagining chart-topping hits or delivering stripped-down originals\, our goal is simple: to connect with every audience through the universal language of music. With a love for the classics and a curiosity for the contemporary\, we offer something familiar yet unexpected music that resonates\, no matter your taste. \nLed by Ken Becker from the south suburbs of Chicago\, for over 20 years\, SmackWater has performed numerous intimate venues\, festivals\, weddings\, and private events. This acoustic group delivers dynamic performances that feel personal\, timeless\, and always in tune with the crowd.
URL:https://ednjoes.com/event/smackwater-2/
LOCATION:17332 S. Oak Park Ave\, Tinley Park\, IL\, 60477\, United States
CATEGORIES:Ed & Joes,Live Music,Social
ATTACH;FMTTYPE=image/jpeg:https://ednjoes.com/wp-content/uploads/2025/07/smackwater.jpg
END:VEVENT
END:VCALENDAR