BEGIN:VCALENDAR
VERSION:2.0
PRODID:-//Ed &amp; Joe&#039;s Restaurant &amp; Pizzeria - ECPv6.15.20//NONSGML v1.0//EN
CALSCALE:GREGORIAN
METHOD:PUBLISH
X-ORIGINAL-URL:https://ednjoes.com
X-WR-CALDESC:Events for Ed &amp; Joe&#039;s Restaurant &amp; Pizzeria
REFRESH-INTERVAL;VALUE=DURATION:PT1H
X-Robots-Tag:noindex
X-PUBLISHED-TTL:PT1H
BEGIN:VTIMEZONE
TZID:America/Chicago
BEGIN:DAYLIGHT
TZOFFSETFROM:-0600
TZOFFSETTO:-0500
TZNAME:CDT
DTSTART:20250309T080000
END:DAYLIGHT
BEGIN:STANDARD
TZOFFSETFROM:-0500
TZOFFSETTO:-0600
TZNAME:CST
DTSTART:20251102T070000
END:STANDARD
BEGIN:DAYLIGHT
TZOFFSETFROM:-0600
TZOFFSETTO:-0500
TZNAME:CDT
DTSTART:20260308T080000
END:DAYLIGHT
BEGIN:STANDARD
TZOFFSETFROM:-0500
TZOFFSETTO:-0600
TZNAME:CST
DTSTART:20261101T070000
END:STANDARD
BEGIN:DAYLIGHT
TZOFFSETFROM:-0600
TZOFFSETTO:-0500
TZNAME:CDT
DTSTART:20270314T080000
END:DAYLIGHT
BEGIN:STANDARD
TZOFFSETFROM:-0500
TZOFFSETTO:-0600
TZNAME:CST
DTSTART:20271107T070000
END:STANDARD
END:VTIMEZONE
BEGIN:VEVENT
DTSTART;TZID=America/Chicago:20260523T190000
DTEND;TZID=America/Chicago:20260523T220000
DTSTAMP:20260423T190341
CREATED:20260406T191156Z
LAST-MODIFIED:20260406T193158Z
UID:10004199-1779562800-1779573600@ednjoes.com
SUMMARY:Mitch Mayer
DESCRIPTION:Mitch Mayer has been a gigging musician in Chicago and suburbs since the late 1970’s. He’s spent many years entertaining in bands and as a solo artist. Bars and restaurants all over town\, block parties\, political events… Mitch has played them all. \n“I like to play all of the classic songs that people love! I like to dig up special songs that not too many people play but that people will remember and enjoy!” \nSo please join Mitch Mayer as he sings and plays an evening of the finest acoustic cover songs! Tom Petty\, Neil Young\, Willie Nelson\, Hank Williams\, The Beatles\, Jim Croce\, Jimmy Buffett\, John Prine…….Sit back with a beverage of your choice and enjoy a great evening of music!
URL:https://ednjoes.com/event/mitch-mayer/
LOCATION:17332 S. Oak Park Ave\, Tinley Park\, IL\, 60477\, United States
CATEGORIES:Ed & Joes,Live Music,Social
ATTACH;FMTTYPE=image/jpeg:https://ednjoes.com/wp-content/uploads/2026/04/Mitch-Mayer-2.jpeg
END:VEVENT
END:VCALENDAR