BEGIN:VCALENDAR
VERSION:2.0
PRODID:-//Ed &amp; Joe&#039;s Restaurant &amp; Pizzeria - ECPv6.15.20//NONSGML v1.0//EN
CALSCALE:GREGORIAN
METHOD:PUBLISH
X-ORIGINAL-URL:https://ednjoes.com
X-WR-CALDESC:Events for Ed &amp; Joe&#039;s Restaurant &amp; Pizzeria
REFRESH-INTERVAL;VALUE=DURATION:PT1H
X-Robots-Tag:noindex
X-PUBLISHED-TTL:PT1H
BEGIN:VTIMEZONE
TZID:America/Chicago
BEGIN:DAYLIGHT
TZOFFSETFROM:-0600
TZOFFSETTO:-0500
TZNAME:CDT
DTSTART:20250309T080000
END:DAYLIGHT
BEGIN:STANDARD
TZOFFSETFROM:-0500
TZOFFSETTO:-0600
TZNAME:CST
DTSTART:20251102T070000
END:STANDARD
BEGIN:DAYLIGHT
TZOFFSETFROM:-0600
TZOFFSETTO:-0500
TZNAME:CDT
DTSTART:20260308T080000
END:DAYLIGHT
BEGIN:STANDARD
TZOFFSETFROM:-0500
TZOFFSETTO:-0600
TZNAME:CST
DTSTART:20261101T070000
END:STANDARD
BEGIN:DAYLIGHT
TZOFFSETFROM:-0600
TZOFFSETTO:-0500
TZNAME:CDT
DTSTART:20270314T080000
END:DAYLIGHT
BEGIN:STANDARD
TZOFFSETFROM:-0500
TZOFFSETTO:-0600
TZNAME:CST
DTSTART:20271107T070000
END:STANDARD
END:VTIMEZONE
BEGIN:VEVENT
DTSTART;TZID=America/Chicago:20260327T190000
DTEND;TZID=America/Chicago:20260327T220000
DTSTAMP:20260424T061140
CREATED:20260209T204236Z
LAST-MODIFIED:20260209T204236Z
UID:10004153-1774638000-1774648800@ednjoes.com
SUMMARY:Jack Byron
DESCRIPTION:Jack Byron is a singer-songwriter from the south side of Chicago. A self-taught musician\, Jack’s musical heroes range from the Beatles\, Radiohead\, Bob Dylan\, Beck\, Van Morrison\, and John Mayer. He picked up the guitar and piano in high school and wrote his first song at 17 and has been honing his craft ever since. \n  \n  \n  \n  \nhttps://www.facebook.com/jackbyronmusic
URL:https://ednjoes.com/event/jack-byron/
LOCATION:17332 S. Oak Park Ave\, Tinley Park\, IL\, 60477\, United States
CATEGORIES:Ed & Joes,Live Music,Social
ATTACH;FMTTYPE=image/jpeg:https://ednjoes.com/wp-content/uploads/2021/10/Jack-Byron-pic.jpg
END:VEVENT
END:VCALENDAR