BEGIN:VCALENDAR
VERSION:2.0
PRODID:-//Ed &amp; Joe&#039;s Restaurant &amp; Pizzeria - ECPv6.15.20//NONSGML v1.0//EN
CALSCALE:GREGORIAN
METHOD:PUBLISH
X-WR-CALNAME:Ed &amp; Joe&#039;s Restaurant &amp; Pizzeria
X-ORIGINAL-URL:https://ednjoes.com
X-WR-CALDESC:Events for Ed &amp; Joe&#039;s Restaurant &amp; Pizzeria
REFRESH-INTERVAL;VALUE=DURATION:PT1H
X-Robots-Tag:noindex
X-PUBLISHED-TTL:PT1H
BEGIN:VTIMEZONE
TZID:America/Chicago
BEGIN:DAYLIGHT
TZOFFSETFROM:-0600
TZOFFSETTO:-0500
TZNAME:CDT
DTSTART:20260308T080000
END:DAYLIGHT
BEGIN:STANDARD
TZOFFSETFROM:-0500
TZOFFSETTO:-0600
TZNAME:CST
DTSTART:20261101T070000
END:STANDARD
BEGIN:DAYLIGHT
TZOFFSETFROM:-0600
TZOFFSETTO:-0500
TZNAME:CDT
DTSTART:20270314T080000
END:DAYLIGHT
BEGIN:STANDARD
TZOFFSETFROM:-0500
TZOFFSETTO:-0600
TZNAME:CST
DTSTART:20271107T070000
END:STANDARD
BEGIN:DAYLIGHT
TZOFFSETFROM:-0600
TZOFFSETTO:-0500
TZNAME:CDT
DTSTART:20280312T080000
END:DAYLIGHT
BEGIN:STANDARD
TZOFFSETFROM:-0500
TZOFFSETTO:-0600
TZNAME:CST
DTSTART:20281105T070000
END:STANDARD
END:VTIMEZONE
BEGIN:VEVENT
DTSTART;VALUE=DATE:20270503
DTEND;VALUE=DATE:20270504
DTSTAMP:20260424T131821
CREATED:20231122T025033Z
LAST-MODIFIED:20240128T195358Z
UID:10002607-1809302400-1809388799@ednjoes.com
SUMMARY:Closed
DESCRIPTION:
URL:https://ednjoes.com/event/closed-3-2/2027-05-03/
LOCATION:17332 S. Oak Park Ave\, Tinley Park\, IL\, 60477\, United States
CATEGORIES:Closed,Ed & Joes,Kid's,Live Music,Social,Sporting
END:VEVENT
BEGIN:VEVENT
DTSTART;VALUE=DATE:20270510
DTEND;VALUE=DATE:20270511
DTSTAMP:20260424T131821
CREATED:20231122T025033Z
LAST-MODIFIED:20240128T195358Z
UID:10002608-1809907200-1809993599@ednjoes.com
SUMMARY:Closed
DESCRIPTION:
URL:https://ednjoes.com/event/closed-3-2/2027-05-10/
LOCATION:17332 S. Oak Park Ave\, Tinley Park\, IL\, 60477\, United States
CATEGORIES:Closed,Ed & Joes,Kid's,Live Music,Social,Sporting
END:VEVENT
BEGIN:VEVENT
DTSTART;VALUE=DATE:20270517
DTEND;VALUE=DATE:20270518
DTSTAMP:20260424T131821
CREATED:20231122T025033Z
LAST-MODIFIED:20240128T195358Z
UID:10002609-1810512000-1810598399@ednjoes.com
SUMMARY:Closed
DESCRIPTION:
URL:https://ednjoes.com/event/closed-3-2/2027-05-17/
LOCATION:17332 S. Oak Park Ave\, Tinley Park\, IL\, 60477\, United States
CATEGORIES:Closed,Ed & Joes,Kid's,Live Music,Social,Sporting
END:VEVENT
BEGIN:VEVENT
DTSTART;VALUE=DATE:20270524
DTEND;VALUE=DATE:20270525
DTSTAMP:20260424T131821
CREATED:20231122T025033Z
LAST-MODIFIED:20240128T195358Z
UID:10002610-1811116800-1811203199@ednjoes.com
SUMMARY:Closed
DESCRIPTION:
URL:https://ednjoes.com/event/closed-3-2/2027-05-24/
LOCATION:17332 S. Oak Park Ave\, Tinley Park\, IL\, 60477\, United States
CATEGORIES:Closed,Ed & Joes,Kid's,Live Music,Social,Sporting
END:VEVENT
BEGIN:VEVENT
DTSTART;VALUE=DATE:20270531
DTEND;VALUE=DATE:20270601
DTSTAMP:20260424T131821
CREATED:20231122T025033Z
LAST-MODIFIED:20240128T195358Z
UID:10002611-1811721600-1811807999@ednjoes.com
SUMMARY:Closed
DESCRIPTION:
URL:https://ednjoes.com/event/closed-3-2/2027-05-31/
LOCATION:17332 S. Oak Park Ave\, Tinley Park\, IL\, 60477\, United States
CATEGORIES:Closed,Ed & Joes,Kid's,Live Music,Social,Sporting
END:VEVENT
END:VCALENDAR