BEGIN:VCALENDAR
VERSION:2.0
PRODID:-//Ed &amp; Joe&#039;s Restaurant &amp; Pizzeria - ECPv6.15.20//NONSGML v1.0//EN
CALSCALE:GREGORIAN
METHOD:PUBLISH
X-ORIGINAL-URL:https://ednjoes.com
X-WR-CALDESC:Events for Ed &amp; Joe&#039;s Restaurant &amp; Pizzeria
REFRESH-INTERVAL;VALUE=DURATION:PT1H
X-Robots-Tag:noindex
X-PUBLISHED-TTL:PT1H
BEGIN:VTIMEZONE
TZID:America/Chicago
BEGIN:DAYLIGHT
TZOFFSETFROM:-0600
TZOFFSETTO:-0500
TZNAME:CDT
DTSTART:20250309T080000
END:DAYLIGHT
BEGIN:STANDARD
TZOFFSETFROM:-0500
TZOFFSETTO:-0600
TZNAME:CST
DTSTART:20251102T070000
END:STANDARD
BEGIN:DAYLIGHT
TZOFFSETFROM:-0600
TZOFFSETTO:-0500
TZNAME:CDT
DTSTART:20260308T080000
END:DAYLIGHT
BEGIN:STANDARD
TZOFFSETFROM:-0500
TZOFFSETTO:-0600
TZNAME:CST
DTSTART:20261101T070000
END:STANDARD
BEGIN:DAYLIGHT
TZOFFSETFROM:-0600
TZOFFSETTO:-0500
TZNAME:CDT
DTSTART:20270314T080000
END:DAYLIGHT
BEGIN:STANDARD
TZOFFSETFROM:-0500
TZOFFSETTO:-0600
TZNAME:CST
DTSTART:20271107T070000
END:STANDARD
END:VTIMEZONE
BEGIN:VEVENT
DTSTART;TZID=America/Chicago:20260530T190000
DTEND;TZID=America/Chicago:20260530T220000
DTSTAMP:20260423T161143
CREATED:20260406T191240Z
LAST-MODIFIED:20260406T192543Z
UID:10004200-1780167600-1780178400@ednjoes.com
SUMMARY:Mikey Harms
DESCRIPTION:Mikey Harms is a Chicagoland singer-songwriter hailing from Tinley Park. Pulling inspiration from across genres and art forms\, Mikey is a striking performer with a diverse range – most often aligning with alternative rock and folk. From sentimental tones of simple voice and guitar to mammoth orchestrations\, Mikey’s sound is the product of eclectic tastes\, frequent collaboration\, and constant inspiration from his incredible friends and contemporaries. Tenacious and original\, Mikey is regarded as a promising and innovative young musician\, rising rapidly in the Chicago scene.
URL:https://ednjoes.com/event/mikey-harms/
LOCATION:17332 S. Oak Park Ave\, Tinley Park\, IL\, 60477\, United States
CATEGORIES:Ed & Joes,Live Music,Social
ATTACH;FMTTYPE=image/jpeg:https://ednjoes.com/wp-content/uploads/2026/04/Mikey-Harms.jpg
END:VEVENT
END:VCALENDAR