BEGIN:VCALENDAR
VERSION:2.0
PRODID:-//Ed &amp; Joe&#039;s Restaurant &amp; Pizzeria - ECPv6.15.20//NONSGML v1.0//EN
CALSCALE:GREGORIAN
METHOD:PUBLISH
X-WR-CALNAME:Ed &amp; Joe&#039;s Restaurant &amp; Pizzeria
X-ORIGINAL-URL:https://ednjoes.com
X-WR-CALDESC:Events for Ed &amp; Joe&#039;s Restaurant &amp; Pizzeria
REFRESH-INTERVAL;VALUE=DURATION:PT1H
X-Robots-Tag:noindex
X-PUBLISHED-TTL:PT1H
BEGIN:VTIMEZONE
TZID:America/Chicago
BEGIN:DAYLIGHT
TZOFFSETFROM:-0600
TZOFFSETTO:-0500
TZNAME:CDT
DTSTART:20250309T080000
END:DAYLIGHT
BEGIN:STANDARD
TZOFFSETFROM:-0500
TZOFFSETTO:-0600
TZNAME:CST
DTSTART:20251102T070000
END:STANDARD
BEGIN:DAYLIGHT
TZOFFSETFROM:-0600
TZOFFSETTO:-0500
TZNAME:CDT
DTSTART:20260308T080000
END:DAYLIGHT
BEGIN:STANDARD
TZOFFSETFROM:-0500
TZOFFSETTO:-0600
TZNAME:CST
DTSTART:20261101T070000
END:STANDARD
BEGIN:DAYLIGHT
TZOFFSETFROM:-0600
TZOFFSETTO:-0500
TZNAME:CDT
DTSTART:20270314T080000
END:DAYLIGHT
BEGIN:STANDARD
TZOFFSETFROM:-0500
TZOFFSETTO:-0600
TZNAME:CST
DTSTART:20271107T070000
END:STANDARD
END:VTIMEZONE
BEGIN:VEVENT
DTSTART;TZID=America/Chicago:20260522T190000
DTEND;TZID=America/Chicago:20260522T220000
DTSTAMP:20260423T161145
CREATED:20260406T190853Z
LAST-MODIFIED:20260406T190853Z
UID:10004197-1779476400-1779487200@ednjoes.com
SUMMARY:Andrew Denlinger
DESCRIPTION:Andrew Scott Denlinger has been a part of the Chicago music scene for quite a while. His brand of American rock n’ roll is as diverse as the city he calls home. His fifth single\, Draped In Fashion “is all about young love\,” says Andrew. “It’s about the chase\, the unknowns and the excitement of the moment.” Sonically\, Draped In Fashion pulls from a mix of classic tones and modern influence. It’s fresh\, with hints of nostalgia. \nBefore the release his current solo-project\, Andrew toured the nation as bassist for Chicago country-artist Nick Lynch\, playing and performing for thousands across the nation. Together they rocked over 1\,000 shows in honky-tonks\, clubs\, festivals\, on ABC Chicago’s Windy City Live\, and with a bunch of Country Music’s greatest acts. \nAndrew Scott’s new music captures the essence of America\, incorporating bluesy leads\, guitar driven tunes\, and heartfelt lyrics that leave a lasting impression on the listener. Lyrics stretch between heartache and love\, from struggle to life. \nAndrew Scott Denlinger continues to share his music and moments with the world\, writing and recording songs while playing a steady schedule of festivals\, bars\, campgrounds and more throughout the Midwest. His songs have been streamed over 400\,000 times\, with more music on the horizon. \n 
URL:https://ednjoes.com/event/andrew-denlinger-3/
LOCATION:17332 S. Oak Park Ave\, Tinley Park\, IL\, 60477\, United States
CATEGORIES:Ed & Joes,Live Music,Social
ATTACH;FMTTYPE=image/jpeg:https://ednjoes.com/wp-content/uploads/2025/08/Andrew-Denlinger.jpg
END:VEVENT
END:VCALENDAR