BEGIN:VCALENDAR
VERSION:2.0
PRODID:-//Ed &amp; Joe&#039;s Restaurant &amp; Pizzeria - ECPv6.15.20//NONSGML v1.0//EN
CALSCALE:GREGORIAN
METHOD:PUBLISH
X-ORIGINAL-URL:https://ednjoes.com
X-WR-CALDESC:Events for Ed &amp; Joe&#039;s Restaurant &amp; Pizzeria
REFRESH-INTERVAL;VALUE=DURATION:PT1H
X-Robots-Tag:noindex
X-PUBLISHED-TTL:PT1H
BEGIN:VTIMEZONE
TZID:America/Chicago
BEGIN:DAYLIGHT
TZOFFSETFROM:-0600
TZOFFSETTO:-0500
TZNAME:CDT
DTSTART:20260308T080000
END:DAYLIGHT
BEGIN:STANDARD
TZOFFSETFROM:-0500
TZOFFSETTO:-0600
TZNAME:CST
DTSTART:20261101T070000
END:STANDARD
BEGIN:DAYLIGHT
TZOFFSETFROM:-0600
TZOFFSETTO:-0500
TZNAME:CDT
DTSTART:20270314T080000
END:DAYLIGHT
BEGIN:STANDARD
TZOFFSETFROM:-0500
TZOFFSETTO:-0600
TZNAME:CST
DTSTART:20271107T070000
END:STANDARD
BEGIN:DAYLIGHT
TZOFFSETFROM:-0600
TZOFFSETTO:-0500
TZNAME:CDT
DTSTART:20280312T080000
END:DAYLIGHT
BEGIN:STANDARD
TZOFFSETFROM:-0500
TZOFFSETTO:-0600
TZNAME:CST
DTSTART:20281105T070000
END:STANDARD
END:VTIMEZONE
BEGIN:VEVENT
DTSTART;VALUE=DATE:20270301
DTEND;VALUE=DATE:20270302
DTSTAMP:20260424T181216
CREATED:20231122T025033Z
LAST-MODIFIED:20240128T195358Z
UID:10002598-1803859200-1803945599@ednjoes.com
SUMMARY:Closed
DESCRIPTION:
URL:https://ednjoes.com/event/closed-3-2/2027-03-01/
LOCATION:17332 S. Oak Park Ave\, Tinley Park\, IL\, 60477\, United States
CATEGORIES:Closed,Ed & Joes,Kid's,Live Music,Social,Sporting
END:VEVENT
BEGIN:VEVENT
DTSTART;TZID=America/Chicago:20270303T180000
DTEND;TZID=America/Chicago:20270303T210000
DTSTAMP:20260424T181216
CREATED:20231122T023345Z
LAST-MODIFIED:20251112T154535Z
UID:10002873-1804096800-1804107600@ednjoes.com
SUMMARY:Open Mic Night
DESCRIPTION:
URL:https://ednjoes.com/event/open-mic-night/2027-03-03/
LOCATION:17332 S. Oak Park Ave\, Tinley Park\, IL\, 60477\, United States
CATEGORIES:Ed & Joes,Live Music,Social
ATTACH;FMTTYPE=image/jpeg:https://ednjoes.com/wp-content/uploads/2022/03/Open-Mic-Night.jpg
END:VEVENT
BEGIN:VEVENT
DTSTART;TZID=America/Chicago:20270304T190000
DTEND;TZID=America/Chicago:20270304T210000
DTSTAMP:20260424T181216
CREATED:20231122T023558Z
LAST-MODIFIED:20251112T154420Z
UID:10003137-1804186800-1804194000@ednjoes.com
SUMMARY:Trivia Night
DESCRIPTION:
URL:https://ednjoes.com/event/trivia-night-2-2-2/2027-03-04/
LOCATION:17332 S. Oak Park Ave\, Tinley Park\, IL\, 60477\, United States
CATEGORIES:Ed & Joes,Live Music,Social
ATTACH;FMTTYPE=image/jpeg:https://ednjoes.com/wp-content/uploads/2021/05/Triva-Night.jpg
END:VEVENT
BEGIN:VEVENT
DTSTART;VALUE=DATE:20270308
DTEND;VALUE=DATE:20270309
DTSTAMP:20260424T181216
CREATED:20231122T025033Z
LAST-MODIFIED:20240128T195358Z
UID:10002599-1804464000-1804550399@ednjoes.com
SUMMARY:Closed
DESCRIPTION:
URL:https://ednjoes.com/event/closed-3-2/2027-03-08/
LOCATION:17332 S. Oak Park Ave\, Tinley Park\, IL\, 60477\, United States
CATEGORIES:Closed,Ed & Joes,Kid's,Live Music,Social,Sporting
END:VEVENT
BEGIN:VEVENT
DTSTART;TZID=America/Chicago:20270310T180000
DTEND;TZID=America/Chicago:20270310T210000
DTSTAMP:20260424T181216
CREATED:20231122T023345Z
LAST-MODIFIED:20251112T154535Z
UID:10002874-1804701600-1804712400@ednjoes.com
SUMMARY:Open Mic Night
DESCRIPTION:
URL:https://ednjoes.com/event/open-mic-night/2027-03-10/
LOCATION:17332 S. Oak Park Ave\, Tinley Park\, IL\, 60477\, United States
CATEGORIES:Ed & Joes,Live Music,Social
ATTACH;FMTTYPE=image/jpeg:https://ednjoes.com/wp-content/uploads/2022/03/Open-Mic-Night.jpg
END:VEVENT
BEGIN:VEVENT
DTSTART;TZID=America/Chicago:20270311T190000
DTEND;TZID=America/Chicago:20270311T210000
DTSTAMP:20260424T181216
CREATED:20231122T023558Z
LAST-MODIFIED:20251112T154420Z
UID:10003138-1804791600-1804798800@ednjoes.com
SUMMARY:Trivia Night
DESCRIPTION:
URL:https://ednjoes.com/event/trivia-night-2-2-2/2027-03-11/
LOCATION:17332 S. Oak Park Ave\, Tinley Park\, IL\, 60477\, United States
CATEGORIES:Ed & Joes,Live Music,Social
ATTACH;FMTTYPE=image/jpeg:https://ednjoes.com/wp-content/uploads/2021/05/Triva-Night.jpg
END:VEVENT
BEGIN:VEVENT
DTSTART;VALUE=DATE:20270315
DTEND;VALUE=DATE:20270316
DTSTAMP:20260424T181216
CREATED:20231122T025033Z
LAST-MODIFIED:20240128T195358Z
UID:10002600-1805068800-1805155199@ednjoes.com
SUMMARY:Closed
DESCRIPTION:
URL:https://ednjoes.com/event/closed-3-2/2027-03-15/
LOCATION:17332 S. Oak Park Ave\, Tinley Park\, IL\, 60477\, United States
CATEGORIES:Closed,Ed & Joes,Kid's,Live Music,Social,Sporting
END:VEVENT
BEGIN:VEVENT
DTSTART;TZID=America/Chicago:20270317T180000
DTEND;TZID=America/Chicago:20270317T210000
DTSTAMP:20260424T181216
CREATED:20231122T023345Z
LAST-MODIFIED:20251112T154535Z
UID:10002875-1805306400-1805317200@ednjoes.com
SUMMARY:Open Mic Night
DESCRIPTION:
URL:https://ednjoes.com/event/open-mic-night/2027-03-17/
LOCATION:17332 S. Oak Park Ave\, Tinley Park\, IL\, 60477\, United States
CATEGORIES:Ed & Joes,Live Music,Social
ATTACH;FMTTYPE=image/jpeg:https://ednjoes.com/wp-content/uploads/2022/03/Open-Mic-Night.jpg
END:VEVENT
BEGIN:VEVENT
DTSTART;TZID=America/Chicago:20270318T190000
DTEND;TZID=America/Chicago:20270318T210000
DTSTAMP:20260424T181216
CREATED:20231122T023558Z
LAST-MODIFIED:20251112T154420Z
UID:10003139-1805396400-1805403600@ednjoes.com
SUMMARY:Trivia Night
DESCRIPTION:
URL:https://ednjoes.com/event/trivia-night-2-2-2/2027-03-18/
LOCATION:17332 S. Oak Park Ave\, Tinley Park\, IL\, 60477\, United States
CATEGORIES:Ed & Joes,Live Music,Social
ATTACH;FMTTYPE=image/jpeg:https://ednjoes.com/wp-content/uploads/2021/05/Triva-Night.jpg
END:VEVENT
BEGIN:VEVENT
DTSTART;VALUE=DATE:20270322
DTEND;VALUE=DATE:20270323
DTSTAMP:20260424T181216
CREATED:20231122T025033Z
LAST-MODIFIED:20240128T195358Z
UID:10002601-1805673600-1805759999@ednjoes.com
SUMMARY:Closed
DESCRIPTION:
URL:https://ednjoes.com/event/closed-3-2/2027-03-22/
LOCATION:17332 S. Oak Park Ave\, Tinley Park\, IL\, 60477\, United States
CATEGORIES:Closed,Ed & Joes,Kid's,Live Music,Social,Sporting
END:VEVENT
BEGIN:VEVENT
DTSTART;TZID=America/Chicago:20270324T180000
DTEND;TZID=America/Chicago:20270324T210000
DTSTAMP:20260424T181217
CREATED:20231122T023345Z
LAST-MODIFIED:20251112T154535Z
UID:10002876-1805911200-1805922000@ednjoes.com
SUMMARY:Open Mic Night
DESCRIPTION:
URL:https://ednjoes.com/event/open-mic-night/2027-03-24/
LOCATION:17332 S. Oak Park Ave\, Tinley Park\, IL\, 60477\, United States
CATEGORIES:Ed & Joes,Live Music,Social
ATTACH;FMTTYPE=image/jpeg:https://ednjoes.com/wp-content/uploads/2022/03/Open-Mic-Night.jpg
END:VEVENT
BEGIN:VEVENT
DTSTART;TZID=America/Chicago:20270325T190000
DTEND;TZID=America/Chicago:20270325T210000
DTSTAMP:20260424T181217
CREATED:20231122T023558Z
LAST-MODIFIED:20251112T154420Z
UID:10003140-1806001200-1806008400@ednjoes.com
SUMMARY:Trivia Night
DESCRIPTION:
URL:https://ednjoes.com/event/trivia-night-2-2-2/2027-03-25/
LOCATION:17332 S. Oak Park Ave\, Tinley Park\, IL\, 60477\, United States
CATEGORIES:Ed & Joes,Live Music,Social
ATTACH;FMTTYPE=image/jpeg:https://ednjoes.com/wp-content/uploads/2021/05/Triva-Night.jpg
END:VEVENT
BEGIN:VEVENT
DTSTART;VALUE=DATE:20270329
DTEND;VALUE=DATE:20270330
DTSTAMP:20260424T181217
CREATED:20231122T025033Z
LAST-MODIFIED:20240128T195358Z
UID:10002602-1806278400-1806364799@ednjoes.com
SUMMARY:Closed
DESCRIPTION:
URL:https://ednjoes.com/event/closed-3-2/2027-03-29/
LOCATION:17332 S. Oak Park Ave\, Tinley Park\, IL\, 60477\, United States
CATEGORIES:Closed,Ed & Joes,Kid's,Live Music,Social,Sporting
END:VEVENT
BEGIN:VEVENT
DTSTART;TZID=America/Chicago:20270331T180000
DTEND;TZID=America/Chicago:20270331T210000
DTSTAMP:20260424T181217
CREATED:20231122T023345Z
LAST-MODIFIED:20251112T154535Z
UID:10002877-1806516000-1806526800@ednjoes.com
SUMMARY:Open Mic Night
DESCRIPTION:
URL:https://ednjoes.com/event/open-mic-night/2027-03-31/
LOCATION:17332 S. Oak Park Ave\, Tinley Park\, IL\, 60477\, United States
CATEGORIES:Ed & Joes,Live Music,Social
ATTACH;FMTTYPE=image/jpeg:https://ednjoes.com/wp-content/uploads/2022/03/Open-Mic-Night.jpg
END:VEVENT
END:VCALENDAR