BEGIN:VCALENDAR
VERSION:2.0
PRODID:-//Ed &amp; Joe&#039;s Restaurant &amp; Pizzeria - ECPv6.15.20//NONSGML v1.0//EN
CALSCALE:GREGORIAN
METHOD:PUBLISH
X-WR-CALNAME:Ed &amp; Joe&#039;s Restaurant &amp; Pizzeria
X-ORIGINAL-URL:https://ednjoes.com
X-WR-CALDESC:Events for Ed &amp; Joe&#039;s Restaurant &amp; Pizzeria
REFRESH-INTERVAL;VALUE=DURATION:PT1H
X-Robots-Tag:noindex
X-PUBLISHED-TTL:PT1H
BEGIN:VTIMEZONE
TZID:America/Chicago
BEGIN:DAYLIGHT
TZOFFSETFROM:-0600
TZOFFSETTO:-0500
TZNAME:CDT
DTSTART:20250309T080000
END:DAYLIGHT
BEGIN:STANDARD
TZOFFSETFROM:-0500
TZOFFSETTO:-0600
TZNAME:CST
DTSTART:20251102T070000
END:STANDARD
BEGIN:DAYLIGHT
TZOFFSETFROM:-0600
TZOFFSETTO:-0500
TZNAME:CDT
DTSTART:20260308T080000
END:DAYLIGHT
BEGIN:STANDARD
TZOFFSETFROM:-0500
TZOFFSETTO:-0600
TZNAME:CST
DTSTART:20261101T070000
END:STANDARD
BEGIN:DAYLIGHT
TZOFFSETFROM:-0600
TZOFFSETTO:-0500
TZNAME:CDT
DTSTART:20270314T080000
END:DAYLIGHT
BEGIN:STANDARD
TZOFFSETFROM:-0500
TZOFFSETTO:-0600
TZNAME:CST
DTSTART:20271107T070000
END:STANDARD
END:VTIMEZONE
BEGIN:VEVENT
DTSTART;VALUE=DATE:20261102
DTEND;VALUE=DATE:20261103
DTSTAMP:20260424T074241
CREATED:20231122T025033Z
LAST-MODIFIED:20240128T195358Z
UID:10002581-1793577600-1793663999@ednjoes.com
SUMMARY:Closed
DESCRIPTION:
URL:https://ednjoes.com/event/closed-3-2/2026-11-02/
LOCATION:17332 S. Oak Park Ave\, Tinley Park\, IL\, 60477\, United States
CATEGORIES:Closed,Ed & Joes,Kid's,Live Music,Social,Sporting
END:VEVENT
BEGIN:VEVENT
DTSTART;TZID=America/Chicago:20261104T180000
DTEND;TZID=America/Chicago:20261104T210000
DTSTAMP:20260424T074241
CREATED:20231122T023345Z
LAST-MODIFIED:20251112T154535Z
UID:10002856-1793815200-1793826000@ednjoes.com
SUMMARY:Open Mic Night
DESCRIPTION:
URL:https://ednjoes.com/event/open-mic-night/2026-11-04/
LOCATION:17332 S. Oak Park Ave\, Tinley Park\, IL\, 60477\, United States
CATEGORIES:Ed & Joes,Live Music,Social
ATTACH;FMTTYPE=image/jpeg:https://ednjoes.com/wp-content/uploads/2022/03/Open-Mic-Night.jpg
END:VEVENT
BEGIN:VEVENT
DTSTART;TZID=America/Chicago:20261105T190000
DTEND;TZID=America/Chicago:20261105T210000
DTSTAMP:20260424T074241
CREATED:20231122T023558Z
LAST-MODIFIED:20251112T154420Z
UID:10003120-1793905200-1793912400@ednjoes.com
SUMMARY:Trivia Night
DESCRIPTION:
URL:https://ednjoes.com/event/trivia-night-2-2-2/2026-11-05/
LOCATION:17332 S. Oak Park Ave\, Tinley Park\, IL\, 60477\, United States
CATEGORIES:Ed & Joes,Live Music,Social
ATTACH;FMTTYPE=image/jpeg:https://ednjoes.com/wp-content/uploads/2021/05/Triva-Night.jpg
END:VEVENT
BEGIN:VEVENT
DTSTART;VALUE=DATE:20261109
DTEND;VALUE=DATE:20261110
DTSTAMP:20260424T074242
CREATED:20231122T025033Z
LAST-MODIFIED:20240128T195358Z
UID:10002582-1794182400-1794268799@ednjoes.com
SUMMARY:Closed
DESCRIPTION:
URL:https://ednjoes.com/event/closed-3-2/2026-11-09/
LOCATION:17332 S. Oak Park Ave\, Tinley Park\, IL\, 60477\, United States
CATEGORIES:Closed,Ed & Joes,Kid's,Live Music,Social,Sporting
END:VEVENT
BEGIN:VEVENT
DTSTART;TZID=America/Chicago:20261111T180000
DTEND;TZID=America/Chicago:20261111T210000
DTSTAMP:20260424T074242
CREATED:20231122T023345Z
LAST-MODIFIED:20251112T154535Z
UID:10002857-1794420000-1794430800@ednjoes.com
SUMMARY:Open Mic Night
DESCRIPTION:
URL:https://ednjoes.com/event/open-mic-night/2026-11-11/
LOCATION:17332 S. Oak Park Ave\, Tinley Park\, IL\, 60477\, United States
CATEGORIES:Ed & Joes,Live Music,Social
ATTACH;FMTTYPE=image/jpeg:https://ednjoes.com/wp-content/uploads/2022/03/Open-Mic-Night.jpg
END:VEVENT
BEGIN:VEVENT
DTSTART;TZID=America/Chicago:20261112T190000
DTEND;TZID=America/Chicago:20261112T210000
DTSTAMP:20260424T074242
CREATED:20231122T023558Z
LAST-MODIFIED:20251112T154420Z
UID:10003121-1794510000-1794517200@ednjoes.com
SUMMARY:Trivia Night
DESCRIPTION:
URL:https://ednjoes.com/event/trivia-night-2-2-2/2026-11-12/
LOCATION:17332 S. Oak Park Ave\, Tinley Park\, IL\, 60477\, United States
CATEGORIES:Ed & Joes,Live Music,Social
ATTACH;FMTTYPE=image/jpeg:https://ednjoes.com/wp-content/uploads/2021/05/Triva-Night.jpg
END:VEVENT
BEGIN:VEVENT
DTSTART;VALUE=DATE:20261116
DTEND;VALUE=DATE:20261117
DTSTAMP:20260424T074242
CREATED:20231122T025033Z
LAST-MODIFIED:20240128T195358Z
UID:10002583-1794787200-1794873599@ednjoes.com
SUMMARY:Closed
DESCRIPTION:
URL:https://ednjoes.com/event/closed-3-2/2026-11-16/
LOCATION:17332 S. Oak Park Ave\, Tinley Park\, IL\, 60477\, United States
CATEGORIES:Closed,Ed & Joes,Kid's,Live Music,Social,Sporting
END:VEVENT
BEGIN:VEVENT
DTSTART;TZID=America/Chicago:20261118T180000
DTEND;TZID=America/Chicago:20261118T210000
DTSTAMP:20260424T074242
CREATED:20231122T023345Z
LAST-MODIFIED:20251112T154535Z
UID:10002858-1795024800-1795035600@ednjoes.com
SUMMARY:Open Mic Night
DESCRIPTION:
URL:https://ednjoes.com/event/open-mic-night/2026-11-18/
LOCATION:17332 S. Oak Park Ave\, Tinley Park\, IL\, 60477\, United States
CATEGORIES:Ed & Joes,Live Music,Social
ATTACH;FMTTYPE=image/jpeg:https://ednjoes.com/wp-content/uploads/2022/03/Open-Mic-Night.jpg
END:VEVENT
BEGIN:VEVENT
DTSTART;TZID=America/Chicago:20261119T190000
DTEND;TZID=America/Chicago:20261119T210000
DTSTAMP:20260424T074242
CREATED:20231122T023558Z
LAST-MODIFIED:20251112T154420Z
UID:10003122-1795114800-1795122000@ednjoes.com
SUMMARY:Trivia Night
DESCRIPTION:
URL:https://ednjoes.com/event/trivia-night-2-2-2/2026-11-19/
LOCATION:17332 S. Oak Park Ave\, Tinley Park\, IL\, 60477\, United States
CATEGORIES:Ed & Joes,Live Music,Social
ATTACH;FMTTYPE=image/jpeg:https://ednjoes.com/wp-content/uploads/2021/05/Triva-Night.jpg
END:VEVENT
BEGIN:VEVENT
DTSTART;VALUE=DATE:20261123
DTEND;VALUE=DATE:20261124
DTSTAMP:20260424T074242
CREATED:20231122T025033Z
LAST-MODIFIED:20240128T195358Z
UID:10002584-1795392000-1795478399@ednjoes.com
SUMMARY:Closed
DESCRIPTION:
URL:https://ednjoes.com/event/closed-3-2/2026-11-23/
LOCATION:17332 S. Oak Park Ave\, Tinley Park\, IL\, 60477\, United States
CATEGORIES:Closed,Ed & Joes,Kid's,Live Music,Social,Sporting
END:VEVENT
BEGIN:VEVENT
DTSTART;TZID=America/Chicago:20261125T180000
DTEND;TZID=America/Chicago:20261125T210000
DTSTAMP:20260424T074242
CREATED:20231122T023345Z
LAST-MODIFIED:20251112T154535Z
UID:10002859-1795629600-1795640400@ednjoes.com
SUMMARY:Open Mic Night
DESCRIPTION:
URL:https://ednjoes.com/event/open-mic-night/2026-11-25/
LOCATION:17332 S. Oak Park Ave\, Tinley Park\, IL\, 60477\, United States
CATEGORIES:Ed & Joes,Live Music,Social
ATTACH;FMTTYPE=image/jpeg:https://ednjoes.com/wp-content/uploads/2022/03/Open-Mic-Night.jpg
END:VEVENT
BEGIN:VEVENT
DTSTART;TZID=America/Chicago:20261126T190000
DTEND;TZID=America/Chicago:20261126T210000
DTSTAMP:20260424T074242
CREATED:20231122T023558Z
LAST-MODIFIED:20251112T154420Z
UID:10003123-1795719600-1795726800@ednjoes.com
SUMMARY:Trivia Night
DESCRIPTION:
URL:https://ednjoes.com/event/trivia-night-2-2-2/2026-11-26/
LOCATION:17332 S. Oak Park Ave\, Tinley Park\, IL\, 60477\, United States
CATEGORIES:Ed & Joes,Live Music,Social
ATTACH;FMTTYPE=image/jpeg:https://ednjoes.com/wp-content/uploads/2021/05/Triva-Night.jpg
END:VEVENT
BEGIN:VEVENT
DTSTART;VALUE=DATE:20261130
DTEND;VALUE=DATE:20261201
DTSTAMP:20260424T074242
CREATED:20231122T025033Z
LAST-MODIFIED:20240128T195358Z
UID:10002585-1795996800-1796083199@ednjoes.com
SUMMARY:Closed
DESCRIPTION:
URL:https://ednjoes.com/event/closed-3-2/2026-11-30/
LOCATION:17332 S. Oak Park Ave\, Tinley Park\, IL\, 60477\, United States
CATEGORIES:Closed,Ed & Joes,Kid's,Live Music,Social,Sporting
END:VEVENT
END:VCALENDAR