BEGIN:VCALENDAR
VERSION:2.0
PRODID:-//Ed &amp; Joe&#039;s Restaurant &amp; Pizzeria - ECPv6.15.20//NONSGML v1.0//EN
CALSCALE:GREGORIAN
METHOD:PUBLISH
X-ORIGINAL-URL:https://ednjoes.com
X-WR-CALDESC:Events for Ed &amp; Joe&#039;s Restaurant &amp; Pizzeria
REFRESH-INTERVAL;VALUE=DURATION:PT1H
X-Robots-Tag:noindex
X-PUBLISHED-TTL:PT1H
BEGIN:VTIMEZONE
TZID:America/Chicago
BEGIN:DAYLIGHT
TZOFFSETFROM:-0600
TZOFFSETTO:-0500
TZNAME:CDT
DTSTART:20250309T080000
END:DAYLIGHT
BEGIN:STANDARD
TZOFFSETFROM:-0500
TZOFFSETTO:-0600
TZNAME:CST
DTSTART:20251102T070000
END:STANDARD
BEGIN:DAYLIGHT
TZOFFSETFROM:-0600
TZOFFSETTO:-0500
TZNAME:CDT
DTSTART:20260308T080000
END:DAYLIGHT
BEGIN:STANDARD
TZOFFSETFROM:-0500
TZOFFSETTO:-0600
TZNAME:CST
DTSTART:20261101T070000
END:STANDARD
BEGIN:DAYLIGHT
TZOFFSETFROM:-0600
TZOFFSETTO:-0500
TZNAME:CDT
DTSTART:20270314T080000
END:DAYLIGHT
BEGIN:STANDARD
TZOFFSETFROM:-0500
TZOFFSETTO:-0600
TZNAME:CST
DTSTART:20271107T070000
END:STANDARD
END:VTIMEZONE
BEGIN:VEVENT
DTSTART;TZID=America/Chicago:20260424T190000
DTEND;TZID=America/Chicago:20260424T220000
DTSTAMP:20260423T144107
CREATED:20260211T220450Z
LAST-MODIFIED:20260211T220450Z
UID:10004162-1777057200-1777068000@ednjoes.com
SUMMARY:Mark Gorka
DESCRIPTION:Mark Gorka is an accomplished solo singer & acoustic guitarist entertaining audiences all over the Chicagoland area. Besides Mark’s solid vocals and guitar playing\, his uniqueness undoubtedly lies in his repertoire. Mark plays well-known songs of many genres from today’s Pop/Rock/Country all the way back to the 60’s. When Mark is performing\, expect to hear songs from the Beatles\, Van Morrison\, The Monkeys\, America\, Hootie and The Blowfish to John Mayer\, Bon Jovi\, Matchbox 20\, Zac Brown\, Darius Rucker\, Thomas Rhett\, Niall Horan\, Sam Hunt and many more. \nFacebook: https://www.facebook.com/markgorkaacoustic \n 
URL:https://ednjoes.com/event/mark-gorka-5/
LOCATION:17332 S. Oak Park Ave\, Tinley Park\, IL\, 60477\, United States
CATEGORIES:Ed & Joes,Live Music,Social
ATTACH;FMTTYPE=image/jpeg:https://ednjoes.com/wp-content/uploads/2024/01/FB_IMG_1699909371317.jpg
END:VEVENT
END:VCALENDAR