BEGIN:VCALENDAR
VERSION:2.0
PRODID:-//Ed &amp; Joe&#039;s Restaurant &amp; Pizzeria - ECPv6.15.20//NONSGML v1.0//EN
CALSCALE:GREGORIAN
METHOD:PUBLISH
X-ORIGINAL-URL:https://ednjoes.com
X-WR-CALDESC:Events for Ed &amp; Joe&#039;s Restaurant &amp; Pizzeria
REFRESH-INTERVAL;VALUE=DURATION:PT1H
X-Robots-Tag:noindex
X-PUBLISHED-TTL:PT1H
BEGIN:VTIMEZONE
TZID:America/Chicago
BEGIN:DAYLIGHT
TZOFFSETFROM:-0600
TZOFFSETTO:-0500
TZNAME:CDT
DTSTART:20250309T080000
END:DAYLIGHT
BEGIN:STANDARD
TZOFFSETFROM:-0500
TZOFFSETTO:-0600
TZNAME:CST
DTSTART:20251102T070000
END:STANDARD
BEGIN:DAYLIGHT
TZOFFSETFROM:-0600
TZOFFSETTO:-0500
TZNAME:CDT
DTSTART:20260308T080000
END:DAYLIGHT
BEGIN:STANDARD
TZOFFSETFROM:-0500
TZOFFSETTO:-0600
TZNAME:CST
DTSTART:20261101T070000
END:STANDARD
BEGIN:DAYLIGHT
TZOFFSETFROM:-0600
TZOFFSETTO:-0500
TZNAME:CDT
DTSTART:20270314T080000
END:DAYLIGHT
BEGIN:STANDARD
TZOFFSETFROM:-0500
TZOFFSETTO:-0600
TZNAME:CST
DTSTART:20271107T070000
END:STANDARD
END:VTIMEZONE
BEGIN:VEVENT
DTSTART;VALUE=DATE:20260101
DTEND;VALUE=DATE:20260102
DTSTAMP:20260423T180718
CREATED:20251112T154317Z
LAST-MODIFIED:20251112T154317Z
UID:10004088-1767225600-1767311999@ednjoes.com
SUMMARY:New Year'sClosed
DESCRIPTION:
URL:https://ednjoes.com/event/new-yearsclosed/
LOCATION:17332 S. Oak Park Ave\, Tinley Park\, IL\, 60477\, United States
CATEGORIES:Closed,Ed & Joes,Kid's,Live Music,Social,Sporting
END:VEVENT
BEGIN:VEVENT
DTSTART;VALUE=DATE:20260105
DTEND;VALUE=DATE:20260106
DTSTAMP:20260423T180719
CREATED:20231122T025033Z
LAST-MODIFIED:20240128T195358Z
UID:10002538-1767571200-1767657599@ednjoes.com
SUMMARY:Closed
DESCRIPTION:
URL:https://ednjoes.com/event/closed-3-2/2026-01-05/
LOCATION:17332 S. Oak Park Ave\, Tinley Park\, IL\, 60477\, United States
CATEGORIES:Closed,Ed & Joes,Kid's,Live Music,Social,Sporting
END:VEVENT
BEGIN:VEVENT
DTSTART;VALUE=DATE:20260112
DTEND;VALUE=DATE:20260113
DTSTAMP:20260423T180719
CREATED:20231122T025033Z
LAST-MODIFIED:20240128T195358Z
UID:10002539-1768176000-1768262399@ednjoes.com
SUMMARY:Closed
DESCRIPTION:
URL:https://ednjoes.com/event/closed-3-2/2026-01-12/
LOCATION:17332 S. Oak Park Ave\, Tinley Park\, IL\, 60477\, United States
CATEGORIES:Closed,Ed & Joes,Kid's,Live Music,Social,Sporting
END:VEVENT
BEGIN:VEVENT
DTSTART;VALUE=DATE:20260119
DTEND;VALUE=DATE:20260120
DTSTAMP:20260423T180719
CREATED:20231122T025033Z
LAST-MODIFIED:20240128T195358Z
UID:10002540-1768780800-1768867199@ednjoes.com
SUMMARY:Closed
DESCRIPTION:
URL:https://ednjoes.com/event/closed-3-2/2026-01-19/
LOCATION:17332 S. Oak Park Ave\, Tinley Park\, IL\, 60477\, United States
CATEGORIES:Closed,Ed & Joes,Kid's,Live Music,Social,Sporting
END:VEVENT
BEGIN:VEVENT
DTSTART;VALUE=DATE:20260126
DTEND;VALUE=DATE:20260127
DTSTAMP:20260423T180719
CREATED:20231122T025033Z
LAST-MODIFIED:20240128T195358Z
UID:10002541-1769385600-1769471999@ednjoes.com
SUMMARY:Closed
DESCRIPTION:
URL:https://ednjoes.com/event/closed-3-2/2026-01-26/
LOCATION:17332 S. Oak Park Ave\, Tinley Park\, IL\, 60477\, United States
CATEGORIES:Closed,Ed & Joes,Kid's,Live Music,Social,Sporting
END:VEVENT
END:VCALENDAR