BEGIN:VCALENDAR
VERSION:2.0
PRODID:-//Ed &amp; Joe&#039;s Restaurant &amp; Pizzeria - ECPv6.15.20//NONSGML v1.0//EN
CALSCALE:GREGORIAN
METHOD:PUBLISH
X-ORIGINAL-URL:https://ednjoes.com
X-WR-CALDESC:Events for Ed &amp; Joe&#039;s Restaurant &amp; Pizzeria
REFRESH-INTERVAL;VALUE=DURATION:PT1H
X-Robots-Tag:noindex
X-PUBLISHED-TTL:PT1H
BEGIN:VTIMEZONE
TZID:America/Chicago
BEGIN:DAYLIGHT
TZOFFSETFROM:-0600
TZOFFSETTO:-0500
TZNAME:CDT
DTSTART:20250309T080000
END:DAYLIGHT
BEGIN:STANDARD
TZOFFSETFROM:-0500
TZOFFSETTO:-0600
TZNAME:CST
DTSTART:20251102T070000
END:STANDARD
BEGIN:DAYLIGHT
TZOFFSETFROM:-0600
TZOFFSETTO:-0500
TZNAME:CDT
DTSTART:20260308T080000
END:DAYLIGHT
BEGIN:STANDARD
TZOFFSETFROM:-0500
TZOFFSETTO:-0600
TZNAME:CST
DTSTART:20261101T070000
END:STANDARD
BEGIN:DAYLIGHT
TZOFFSETFROM:-0600
TZOFFSETTO:-0500
TZNAME:CDT
DTSTART:20270314T080000
END:DAYLIGHT
BEGIN:STANDARD
TZOFFSETFROM:-0500
TZOFFSETTO:-0600
TZNAME:CST
DTSTART:20271107T070000
END:STANDARD
END:VTIMEZONE
BEGIN:VEVENT
DTSTART;VALUE=DATE:20260202
DTEND;VALUE=DATE:20260203
DTSTAMP:20260423T150636
CREATED:20231122T025033Z
LAST-MODIFIED:20240128T195358Z
UID:10002542-1769990400-1770076799@ednjoes.com
SUMMARY:Closed
DESCRIPTION:
URL:https://ednjoes.com/event/closed-3-2/2026-02-02/
LOCATION:17332 S. Oak Park Ave\, Tinley Park\, IL\, 60477\, United States
CATEGORIES:Closed,Ed & Joes,Kid's,Live Music,Social,Sporting
END:VEVENT
BEGIN:VEVENT
DTSTART;TZID=America/Chicago:20260204T180000
DTEND;TZID=America/Chicago:20260204T210000
DTSTAMP:20260423T150636
CREATED:20231122T023345Z
LAST-MODIFIED:20251112T154535Z
UID:10002817-1770228000-1770238800@ednjoes.com
SUMMARY:Open Mic Night
DESCRIPTION:
URL:https://ednjoes.com/event/open-mic-night/2026-02-04/
LOCATION:17332 S. Oak Park Ave\, Tinley Park\, IL\, 60477\, United States
CATEGORIES:Ed & Joes,Live Music,Social
ATTACH;FMTTYPE=image/jpeg:https://ednjoes.com/wp-content/uploads/2022/03/Open-Mic-Night.jpg
END:VEVENT
BEGIN:VEVENT
DTSTART;TZID=America/Chicago:20260205T190000
DTEND;TZID=America/Chicago:20260205T210000
DTSTAMP:20260423T150636
CREATED:20231122T023558Z
LAST-MODIFIED:20251112T154420Z
UID:10003081-1770318000-1770325200@ednjoes.com
SUMMARY:Trivia Night
DESCRIPTION:
URL:https://ednjoes.com/event/trivia-night-2-2-2/2026-02-05/
LOCATION:17332 S. Oak Park Ave\, Tinley Park\, IL\, 60477\, United States
CATEGORIES:Ed & Joes,Live Music,Social
ATTACH;FMTTYPE=image/jpeg:https://ednjoes.com/wp-content/uploads/2021/05/Triva-Night.jpg
END:VEVENT
BEGIN:VEVENT
DTSTART;TZID=America/Chicago:20260206T190000
DTEND;TZID=America/Chicago:20260206T220000
DTSTAMP:20260423T150636
CREATED:20260120T194139Z
LAST-MODIFIED:20260120T194139Z
UID:10004130-1770404400-1770415200@ednjoes.com
SUMMARY:Bernie Glim
DESCRIPTION:Pull your best boots on\, angle that Stetson just so\, and then saddle up and ride on out for an evening with this master entertainer and his trusty cowboy cohort Al Joseph as they blaze through the country landscape of popular hits. Bernie and the Al are true professionals who know how to put on a show. Why\, they been wranglin’ songs purt’ near forever and will surely have you singing right along. \nFacebook: https://www.facebook.com/bernie.glim
URL:https://ednjoes.com/event/bernie-glim-4/
LOCATION:17332 S. Oak Park Ave\, Tinley Park\, IL\, 60477\, United States
CATEGORIES:Ed & Joes,Live Music,Social
ATTACH;FMTTYPE=image/jpeg:https://ednjoes.com/wp-content/uploads/2021/05/Bernie-Glim-Solo.jpg
END:VEVENT
BEGIN:VEVENT
DTSTART;TZID=America/Chicago:20260207T190000
DTEND;TZID=America/Chicago:20260207T220000
DTSTAMP:20260423T150636
CREATED:20260120T194217Z
LAST-MODIFIED:20260120T194217Z
UID:10004131-1770490800-1770501600@ednjoes.com
SUMMARY:Mike and Jess
DESCRIPTION:Mike and Jess Music are an Acoustic Duo that plays popular rock\, pop\, alternative\, r&b\, today’s hits\, and some country covers
URL:https://ednjoes.com/event/mike-and-jess-4/
LOCATION:17332 S. Oak Park Ave\, Tinley Park\, IL\, 60477\, United States
CATEGORIES:Ed & Joes,Live Music,Social
ATTACH;FMTTYPE=image/jpeg:https://ednjoes.com/wp-content/uploads/2023/12/Mike-and-Jess-Music.jpg
END:VEVENT
BEGIN:VEVENT
DTSTART;VALUE=DATE:20260209
DTEND;VALUE=DATE:20260210
DTSTAMP:20260423T150636
CREATED:20231122T025033Z
LAST-MODIFIED:20240128T195358Z
UID:10002543-1770595200-1770681599@ednjoes.com
SUMMARY:Closed
DESCRIPTION:
URL:https://ednjoes.com/event/closed-3-2/2026-02-09/
LOCATION:17332 S. Oak Park Ave\, Tinley Park\, IL\, 60477\, United States
CATEGORIES:Closed,Ed & Joes,Kid's,Live Music,Social,Sporting
END:VEVENT
BEGIN:VEVENT
DTSTART;TZID=America/Chicago:20260211T180000
DTEND;TZID=America/Chicago:20260211T210000
DTSTAMP:20260423T150636
CREATED:20231122T023345Z
LAST-MODIFIED:20251112T154535Z
UID:10002818-1770832800-1770843600@ednjoes.com
SUMMARY:Open Mic Night
DESCRIPTION:
URL:https://ednjoes.com/event/open-mic-night/2026-02-11/
LOCATION:17332 S. Oak Park Ave\, Tinley Park\, IL\, 60477\, United States
CATEGORIES:Ed & Joes,Live Music,Social
ATTACH;FMTTYPE=image/jpeg:https://ednjoes.com/wp-content/uploads/2022/03/Open-Mic-Night.jpg
END:VEVENT
BEGIN:VEVENT
DTSTART;TZID=America/Chicago:20260212T190000
DTEND;TZID=America/Chicago:20260212T210000
DTSTAMP:20260423T150636
CREATED:20231122T023558Z
LAST-MODIFIED:20251112T154420Z
UID:10003082-1770922800-1770930000@ednjoes.com
SUMMARY:Trivia Night
DESCRIPTION:
URL:https://ednjoes.com/event/trivia-night-2-2-2/2026-02-12/
LOCATION:17332 S. Oak Park Ave\, Tinley Park\, IL\, 60477\, United States
CATEGORIES:Ed & Joes,Live Music,Social
ATTACH;FMTTYPE=image/jpeg:https://ednjoes.com/wp-content/uploads/2021/05/Triva-Night.jpg
END:VEVENT
BEGIN:VEVENT
DTSTART;TZID=America/Chicago:20260213T190000
DTEND;TZID=America/Chicago:20260213T220000
DTSTAMP:20260423T150637
CREATED:20260120T194247Z
LAST-MODIFIED:20260120T194247Z
UID:10004132-1771009200-1771020000@ednjoes.com
SUMMARY:Mark Gorka
DESCRIPTION:Mark Gorka is an accomplished solo singer & acoustic guitarist entertaining audiences all over the Chicagoland area. Besides Mark’s solid vocals and guitar playing\, his uniqueness undoubtedly lies in his repertoire. Mark plays well-known songs of many genres from today’s Pop/Rock/Country all the way back to the 60’s. When Mark is performing\, expect to hear songs from the Beatles\, Van Morrison\, The Monkeys\, America\, Hootie and The Blowfish to John Mayer\, Bon Jovi\, Matchbox 20\, Zac Brown\, Darius Rucker\, Thomas Rhett\, Niall Horan\, Sam Hunt and many more. \nFacebook: https://www.facebook.com/markgorkaacoustic \n 
URL:https://ednjoes.com/event/mark-gorka-4/
LOCATION:17332 S. Oak Park Ave\, Tinley Park\, IL\, 60477\, United States
CATEGORIES:Ed & Joes,Live Music,Social
ATTACH;FMTTYPE=image/jpeg:https://ednjoes.com/wp-content/uploads/2024/01/FB_IMG_1699909371317.jpg
END:VEVENT
BEGIN:VEVENT
DTSTART;TZID=America/Chicago:20260214T190000
DTEND;TZID=America/Chicago:20260214T220000
DTSTAMP:20260423T150637
CREATED:20260120T194706Z
LAST-MODIFIED:20260120T194706Z
UID:10004133-1771095600-1771106400@ednjoes.com
SUMMARY:Bock & Roll
DESCRIPTION:Bock & Roll is an Acoustic duo comprised of Allison Bockel (vocals) and Terry Rollins (acoustic guitar\, fiddle\, vocals) who are instructors from School of Rock Mokena bringing powerful female vocal covers from the 60s through today. Melissa Etheridge\, Sheryl Crow\, Linda Ronstadt\, Alanis Morissette\, Roberta Flack\, Patsy Cline\, and more!
URL:https://ednjoes.com/event/bock-roll-2/
LOCATION:17332 S. Oak Park Ave\, Tinley Park\, IL\, 60477\, United States
CATEGORIES:Ed & Joes,Live Music,Social
ATTACH;FMTTYPE=image/jpeg:https://ednjoes.com/wp-content/uploads/2025/08/Bock-and-Roll.jpg
END:VEVENT
BEGIN:VEVENT
DTSTART;VALUE=DATE:20260216
DTEND;VALUE=DATE:20260217
DTSTAMP:20260423T150637
CREATED:20231122T025033Z
LAST-MODIFIED:20240128T195358Z
UID:10002544-1771200000-1771286399@ednjoes.com
SUMMARY:Closed
DESCRIPTION:
URL:https://ednjoes.com/event/closed-3-2/2026-02-16/
LOCATION:17332 S. Oak Park Ave\, Tinley Park\, IL\, 60477\, United States
CATEGORIES:Closed,Ed & Joes,Kid's,Live Music,Social,Sporting
END:VEVENT
BEGIN:VEVENT
DTSTART;TZID=America/Chicago:20260218T180000
DTEND;TZID=America/Chicago:20260218T210000
DTSTAMP:20260423T150637
CREATED:20231122T023345Z
LAST-MODIFIED:20251112T154535Z
UID:10002819-1771437600-1771448400@ednjoes.com
SUMMARY:Open Mic Night
DESCRIPTION:
URL:https://ednjoes.com/event/open-mic-night/2026-02-18/
LOCATION:17332 S. Oak Park Ave\, Tinley Park\, IL\, 60477\, United States
CATEGORIES:Ed & Joes,Live Music,Social
ATTACH;FMTTYPE=image/jpeg:https://ednjoes.com/wp-content/uploads/2022/03/Open-Mic-Night.jpg
END:VEVENT
BEGIN:VEVENT
DTSTART;TZID=America/Chicago:20260219T190000
DTEND;TZID=America/Chicago:20260219T210000
DTSTAMP:20260423T150637
CREATED:20231122T023558Z
LAST-MODIFIED:20251112T154420Z
UID:10003083-1771527600-1771534800@ednjoes.com
SUMMARY:Trivia Night
DESCRIPTION:
URL:https://ednjoes.com/event/trivia-night-2-2-2/2026-02-19/
LOCATION:17332 S. Oak Park Ave\, Tinley Park\, IL\, 60477\, United States
CATEGORIES:Ed & Joes,Live Music,Social
ATTACH;FMTTYPE=image/jpeg:https://ednjoes.com/wp-content/uploads/2021/05/Triva-Night.jpg
END:VEVENT
BEGIN:VEVENT
DTSTART;TZID=America/Chicago:20260220T190000
DTEND;TZID=America/Chicago:20260220T220000
DTSTAMP:20260423T150637
CREATED:20260120T194738Z
LAST-MODIFIED:20260120T194738Z
UID:10004134-1771614000-1771624800@ednjoes.com
SUMMARY:Mokena Mike & John Weeks
DESCRIPTION:Mokena Mike (guitar/vocals) and John Weeks (violin/viola) have performed as a duo for years playing a wide variety of musical styles\, including folk\, country\, pop and classic rock. The duo covers songs from a diverse set of artists and songwriters\, from John Prine to Jethro Tull to Jason Isbell and John Denver\, and most everything in between. Mike has been called ‘the human jukebox’ because he knows hundreds of songs enabling him to play most of your requests. John is an incredibly gifted violinist with abilities that will amaze you. A truly unique and talented duo! \nFacebook: https://www.facebook.com/mokena.mike.3
URL:https://ednjoes.com/event/mokena-mike-john-weeks-2/
LOCATION:17332 S. Oak Park Ave\, Tinley Park\, IL\, 60477\, United States
CATEGORIES:Ed & Joes,Live Music,Social
ATTACH;FMTTYPE=image/jpeg:https://ednjoes.com/wp-content/uploads/2022/08/Mokena-Mike-n-John-Weeks.jpg
END:VEVENT
BEGIN:VEVENT
DTSTART;TZID=America/Chicago:20260221T190000
DTEND;TZID=America/Chicago:20260221T220000
DTSTAMP:20260423T150637
CREATED:20260120T194803Z
LAST-MODIFIED:20260120T194803Z
UID:10004135-1771700400-1771711200@ednjoes.com
SUMMARY:Susan Williams & The Wright Groove
DESCRIPTION:Together for six years\, this Chicago-based duo brings their combined experience and the use of two basses to the stage to wow audiences with their unique\, funky approach to the blues. They won a regional challenge to go to Memphis in January 2018 to compete in the International Blues Challenge! Their CD\, “It’s About Time\,” showcases all originals\, nine written by vocalist/bassist Susan Williams.  It was selected to compete in the 2019 IBC in the Best Self-Produced CD category. \nSusan Williams\, lead singer and bassist\,  hails from Chicago\, and has been playing and singing professionally with her own band for over 30 years. Her powerful voice is reminiscent of Bonnie Raitt\, with a tinge of Janis Joplin\, and has been described as “rich and smoky\, with perfect raspiness.”  She has opened for Henry Lee Summer\, shared the stage with Biscuit Miller\, and was bass player for Shirley King\, daughter of B.B. King.  She has played her music across the country\, as well as in Ireland. \nChicago native\, Darryl Wright\, the other bassist in the band\, has toured the world with Mavis Staples\, among others\, and brings his incredible ability to this group in the form of masterful ensemble playing and amazing bass solos. \nhttps://www.facebook.com/Susanwilliamsband
URL:https://ednjoes.com/event/susan-williams-the-wright-groove/
LOCATION:17332 S. Oak Park Ave\, Tinley Park\, IL\, 60477\, United States
CATEGORIES:Ed & Joes,Live Music,Social
ATTACH;FMTTYPE=image/jpeg:https://ednjoes.com/wp-content/uploads/2023/03/Susan-Williams.jpg
END:VEVENT
BEGIN:VEVENT
DTSTART;VALUE=DATE:20260223
DTEND;VALUE=DATE:20260224
DTSTAMP:20260423T150637
CREATED:20231122T025033Z
LAST-MODIFIED:20240128T195358Z
UID:10002545-1771804800-1771891199@ednjoes.com
SUMMARY:Closed
DESCRIPTION:
URL:https://ednjoes.com/event/closed-3-2/2026-02-23/
LOCATION:17332 S. Oak Park Ave\, Tinley Park\, IL\, 60477\, United States
CATEGORIES:Closed,Ed & Joes,Kid's,Live Music,Social,Sporting
END:VEVENT
BEGIN:VEVENT
DTSTART;TZID=America/Chicago:20260225T180000
DTEND;TZID=America/Chicago:20260225T210000
DTSTAMP:20260423T150637
CREATED:20231122T023345Z
LAST-MODIFIED:20251112T154535Z
UID:10002820-1772042400-1772053200@ednjoes.com
SUMMARY:Open Mic Night
DESCRIPTION:
URL:https://ednjoes.com/event/open-mic-night/2026-02-25/
LOCATION:17332 S. Oak Park Ave\, Tinley Park\, IL\, 60477\, United States
CATEGORIES:Ed & Joes,Live Music,Social
ATTACH;FMTTYPE=image/jpeg:https://ednjoes.com/wp-content/uploads/2022/03/Open-Mic-Night.jpg
END:VEVENT
BEGIN:VEVENT
DTSTART;TZID=America/Chicago:20260226T190000
DTEND;TZID=America/Chicago:20260226T210000
DTSTAMP:20260423T150637
CREATED:20231122T023558Z
LAST-MODIFIED:20251112T154420Z
UID:10003084-1772132400-1772139600@ednjoes.com
SUMMARY:Trivia Night
DESCRIPTION:
URL:https://ednjoes.com/event/trivia-night-2-2-2/2026-02-26/
LOCATION:17332 S. Oak Park Ave\, Tinley Park\, IL\, 60477\, United States
CATEGORIES:Ed & Joes,Live Music,Social
ATTACH;FMTTYPE=image/jpeg:https://ednjoes.com/wp-content/uploads/2021/05/Triva-Night.jpg
END:VEVENT
BEGIN:VEVENT
DTSTART;TZID=America/Chicago:20260227T190000
DTEND;TZID=America/Chicago:20260227T220000
DTSTAMP:20260423T150637
CREATED:20260120T194836Z
LAST-MODIFIED:20260120T194836Z
UID:10004136-1772218800-1772229600@ednjoes.com
SUMMARY:Joe Orozco
DESCRIPTION:The Joe Orozco Acoustic Rock Show…Is a high energy set of acoustic rock\, country\, pop and oldies. Request are welcome and a huge part of the show! \nFacebook: https://www.facebook.com/Joeorockshow
URL:https://ednjoes.com/event/joe-orozco/
LOCATION:17332 S. Oak Park Ave\, Tinley Park\, IL\, 60477\, United States
CATEGORIES:Ed & Joes,Live Music,Social
ATTACH;FMTTYPE=image/jpeg:https://ednjoes.com/wp-content/uploads/2021/09/Joe-Orozco.jpg
END:VEVENT
BEGIN:VEVENT
DTSTART;TZID=America/Chicago:20260228T190000
DTEND;TZID=America/Chicago:20260228T220000
DTSTAMP:20260423T150637
CREATED:20260120T194916Z
LAST-MODIFIED:20260120T194916Z
UID:10004137-1772305200-1772316000@ednjoes.com
SUMMARY:Stillgrass
DESCRIPTION:Annie and Kevin Kincaid\, Hall Hanes\,  Jim Williams\, and Scott Bonshire:  A harvest of tone: Fiddle\, Guitar\, Bass and Harp\, as natural as can be…blending rosewood\, spruce\, mahogany\, maple\, harp reeds\, picks and bows and foot stompin’ soles … a Celebration of Song with a Bluegrass Edge!  The set list includes their own homespun numbers along with covers of the great American masters: John Prine\, Peter Rowan\, Lyle Lovett\, Kevin Welch\, Guy Clark\, Steve Earle\, Gillian Welsh\, John Hiatt\, Johnny Cash…you get the picture…it’s all about the songs and the sharing.
URL:https://ednjoes.com/event/stillgrass/
LOCATION:17332 S. Oak Park Ave\, Tinley Park\, IL\, 60477\, United States
CATEGORIES:Ed & Joes,Live Music,Social
ATTACH;FMTTYPE=image/png:https://ednjoes.com/wp-content/uploads/2021/08/StillGrass-2019.png
END:VEVENT
END:VCALENDAR