BEGIN:VCALENDAR
VERSION:2.0
PRODID:-//Ed &amp; Joe&#039;s Restaurant &amp; Pizzeria - ECPv6.15.20//NONSGML v1.0//EN
CALSCALE:GREGORIAN
METHOD:PUBLISH
X-ORIGINAL-URL:https://ednjoes.com
X-WR-CALDESC:Events for Ed &amp; Joe&#039;s Restaurant &amp; Pizzeria
REFRESH-INTERVAL;VALUE=DURATION:PT1H
X-Robots-Tag:noindex
X-PUBLISHED-TTL:PT1H
BEGIN:VTIMEZONE
TZID:America/Chicago
BEGIN:DAYLIGHT
TZOFFSETFROM:-0600
TZOFFSETTO:-0500
TZNAME:CDT
DTSTART:20240310T080000
END:DAYLIGHT
BEGIN:STANDARD
TZOFFSETFROM:-0500
TZOFFSETTO:-0600
TZNAME:CST
DTSTART:20241103T070000
END:STANDARD
BEGIN:DAYLIGHT
TZOFFSETFROM:-0600
TZOFFSETTO:-0500
TZNAME:CDT
DTSTART:20250309T080000
END:DAYLIGHT
BEGIN:STANDARD
TZOFFSETFROM:-0500
TZOFFSETTO:-0600
TZNAME:CST
DTSTART:20251102T070000
END:STANDARD
BEGIN:DAYLIGHT
TZOFFSETFROM:-0600
TZOFFSETTO:-0500
TZNAME:CDT
DTSTART:20260308T080000
END:DAYLIGHT
BEGIN:STANDARD
TZOFFSETFROM:-0500
TZOFFSETTO:-0600
TZNAME:CST
DTSTART:20261101T070000
END:STANDARD
END:VTIMEZONE
BEGIN:VEVENT
DTSTART;TZID=America/Chicago:20251101T190000
DTEND;TZID=America/Chicago:20251101T220000
DTSTAMP:20260423T234849
CREATED:20250829T180403Z
LAST-MODIFIED:20250829T180403Z
UID:10004030-1762023600-1762034400@ednjoes.com
SUMMARY:Mokena Mike & John Weeks
DESCRIPTION:Mokena Mike (guitar/vocals) and John Weeks (violin/viola) have performed as a duo for years playing a wide variety of musical styles\, including folk\, country\, pop and classic rock. The duo covers songs from a diverse set of artists and songwriters\, from John Prine to Jethro Tull to Jason Isbell and John Denver\, and most everything in between. Mike has been called ‘the human jukebox’ because he knows hundreds of songs enabling him to play most of your requests. John is an incredibly gifted violinist with abilities that will amaze you. A truly unique and talented duo! \nFacebook: https://www.facebook.com/mokena.mike.3
URL:https://ednjoes.com/event/mokena-mike-john-weeks-6/
LOCATION:17332 S. Oak Park Ave\, Tinley Park\, IL\, 60477\, United States
CATEGORIES:Ed & Joes,Live Music,Social
ATTACH;FMTTYPE=image/jpeg:https://ednjoes.com/wp-content/uploads/2022/08/Mokena-Mike-n-John-Weeks.jpg
END:VEVENT
BEGIN:VEVENT
DTSTART;VALUE=DATE:20251103
DTEND;VALUE=DATE:20251104
DTSTAMP:20260423T234849
CREATED:20231122T025033Z
LAST-MODIFIED:20240128T195358Z
UID:10002529-1762128000-1762214399@ednjoes.com
SUMMARY:Closed
DESCRIPTION:
URL:https://ednjoes.com/event/closed-3-2/2025-11-03/
LOCATION:17332 S. Oak Park Ave\, Tinley Park\, IL\, 60477\, United States
CATEGORIES:Closed,Ed & Joes,Kid's,Live Music,Social,Sporting
END:VEVENT
BEGIN:VEVENT
DTSTART;TZID=America/Chicago:20251105T180000
DTEND;TZID=America/Chicago:20251105T210000
DTSTAMP:20260423T234849
CREATED:20231122T023345Z
LAST-MODIFIED:20251112T154535Z
UID:10002804-1762365600-1762376400@ednjoes.com
SUMMARY:Open Mic Night
DESCRIPTION:
URL:https://ednjoes.com/event/open-mic-night/2025-11-05/
LOCATION:17332 S. Oak Park Ave\, Tinley Park\, IL\, 60477\, United States
CATEGORIES:Ed & Joes,Live Music,Social
ATTACH;FMTTYPE=image/jpeg:https://ednjoes.com/wp-content/uploads/2022/03/Open-Mic-Night.jpg
END:VEVENT
BEGIN:VEVENT
DTSTART;TZID=America/Chicago:20251106T190000
DTEND;TZID=America/Chicago:20251106T210000
DTSTAMP:20260423T234849
CREATED:20231122T023558Z
LAST-MODIFIED:20251112T154420Z
UID:10003068-1762455600-1762462800@ednjoes.com
SUMMARY:Trivia Night
DESCRIPTION:
URL:https://ednjoes.com/event/trivia-night-2-2-2/2025-11-06/
LOCATION:17332 S. Oak Park Ave\, Tinley Park\, IL\, 60477\, United States
CATEGORIES:Ed & Joes,Live Music,Social
ATTACH;FMTTYPE=image/jpeg:https://ednjoes.com/wp-content/uploads/2021/05/Triva-Night.jpg
END:VEVENT
BEGIN:VEVENT
DTSTART;TZID=America/Chicago:20251107T190000
DTEND;TZID=America/Chicago:20251107T220000
DTSTAMP:20260423T234849
CREATED:20250829T180421Z
LAST-MODIFIED:20250829T180421Z
UID:10004031-1762542000-1762552800@ednjoes.com
SUMMARY:Dave Gorka
DESCRIPTION:Dave Gorka has been entertaining audiences with Classic Rock\, Pop\, Country and some of your favorite oldies.  Style of music consist of cover artists: Niall Horan\, Amy Winehouse\, Johnny Cash\, Chris Stapleton\, Simon and Garfunkel\, Beatles\, Eagles\, Allman Brothers\, Marshall Tucker Band and many more. \nFacebook: https://www.facebook.com/dave.gorka \n 
URL:https://ednjoes.com/event/dave-gorka-3/
LOCATION:17332 S. Oak Park Ave\, Tinley Park\, IL\, 60477\, United States
CATEGORIES:Ed & Joes,Live Music,Social
ATTACH;FMTTYPE=image/jpeg:https://ednjoes.com/wp-content/uploads/2022/12/Dave-Gorka.jpg
END:VEVENT
BEGIN:VEVENT
DTSTART;TZID=America/Chicago:20251108T190000
DTEND;TZID=America/Chicago:20251108T220000
DTSTAMP:20260423T234849
CREATED:20250915T133622Z
LAST-MODIFIED:20250915T133622Z
UID:10004046-1762628400-1762639200@ednjoes.com
SUMMARY:Jerek and Karen
DESCRIPTION:Jerek and Karen are an upbeat acoustic duo covering all your favorite songs from the 70’s to current  hits. A wide variety of classic rock\, pop\, country and blues. Adding a twist of improvisational jamming. \n 
URL:https://ednjoes.com/event/jerek-and-karen-3/
LOCATION:17332 S. Oak Park Ave\, Tinley Park\, IL\, 60477\, United States
CATEGORIES:Ed & Joes,Live Music,Social
ATTACH;FMTTYPE=image/jpeg:https://ednjoes.com/wp-content/uploads/2025/04/Jerek-and-Karen.jpg
END:VEVENT
BEGIN:VEVENT
DTSTART;VALUE=DATE:20251110
DTEND;VALUE=DATE:20251111
DTSTAMP:20260423T234849
CREATED:20231122T025033Z
LAST-MODIFIED:20240128T195358Z
UID:10002530-1762732800-1762819199@ednjoes.com
SUMMARY:Closed
DESCRIPTION:
URL:https://ednjoes.com/event/closed-3-2/2025-11-10/
LOCATION:17332 S. Oak Park Ave\, Tinley Park\, IL\, 60477\, United States
CATEGORIES:Closed,Ed & Joes,Kid's,Live Music,Social,Sporting
END:VEVENT
BEGIN:VEVENT
DTSTART;TZID=America/Chicago:20251112T180000
DTEND;TZID=America/Chicago:20251112T210000
DTSTAMP:20260423T234849
CREATED:20231122T023345Z
LAST-MODIFIED:20251112T154535Z
UID:10002805-1762970400-1762981200@ednjoes.com
SUMMARY:Open Mic Night
DESCRIPTION:
URL:https://ednjoes.com/event/open-mic-night/2025-11-12/
LOCATION:17332 S. Oak Park Ave\, Tinley Park\, IL\, 60477\, United States
CATEGORIES:Ed & Joes,Live Music,Social
ATTACH;FMTTYPE=image/jpeg:https://ednjoes.com/wp-content/uploads/2022/03/Open-Mic-Night.jpg
END:VEVENT
BEGIN:VEVENT
DTSTART;TZID=America/Chicago:20251113T190000
DTEND;TZID=America/Chicago:20251113T210000
DTSTAMP:20260423T234849
CREATED:20231122T023558Z
LAST-MODIFIED:20251112T154420Z
UID:10003069-1763060400-1763067600@ednjoes.com
SUMMARY:Trivia Night
DESCRIPTION:
URL:https://ednjoes.com/event/trivia-night-2-2-2/2025-11-13/
LOCATION:17332 S. Oak Park Ave\, Tinley Park\, IL\, 60477\, United States
CATEGORIES:Ed & Joes,Live Music,Social
ATTACH;FMTTYPE=image/jpeg:https://ednjoes.com/wp-content/uploads/2021/05/Triva-Night.jpg
END:VEVENT
BEGIN:VEVENT
DTSTART;TZID=America/Chicago:20251114T190000
DTEND;TZID=America/Chicago:20251114T220000
DTSTAMP:20260423T234849
CREATED:20250829T180444Z
LAST-MODIFIED:20250829T180444Z
UID:10004032-1763146800-1763157600@ednjoes.com
SUMMARY:Saul Goodman Trio
DESCRIPTION:Blood\, sweat\, passion\, and a knack for improvisation paved the way for this acoustic trio. The SaulGoodTrio coalesced from a 5 piece Rock band out of Crestwood\, IL. Their love for music\, will\, and determination has propelled the trio forward post pandemic. Feeding off the energy of their audience\, requests are always welcomed. “From Classic Rock to Alternative”\, they’re sure to deliver the goods. \nSaul Goodman Trio – www.facebook.com/SaulGoodTrio \n 
URL:https://ednjoes.com/event/saul-goodman-trio/
LOCATION:17332 S. Oak Park Ave\, Tinley Park\, IL\, 60477\, United States
CATEGORIES:Ed & Joes,Live Music,Social
ATTACH;FMTTYPE=image/jpeg:https://ednjoes.com/wp-content/uploads/2023/12/Sual-Goodman-Trio.jpg
END:VEVENT
BEGIN:VEVENT
DTSTART;TZID=America/Chicago:20251115T190000
DTEND;TZID=America/Chicago:20251115T220000
DTSTAMP:20260423T234849
CREATED:20250829T180504Z
LAST-MODIFIED:20250829T180504Z
UID:10004033-1763233200-1763244000@ednjoes.com
SUMMARY:Calumet Band
DESCRIPTION:I just smile and shake my head when I hear these guys. They are that good. Ya gotta see ‘em! Terry Swanson came in to an Open Mic and brought a cd of his band’s work. We listened\, we liked\, and we booked. They call it eclectic rock and soul\, and I call it great playing. For sheer chops and versatility\, this band is as good as it gets around here. Terry plays guitar\, John Shubat bass\, Peg Shaffer drums\, and Sonny Lee Tritt plays sax. \nFacebook: https://www.facebook.com/TheCalumetBand \n 
URL:https://ednjoes.com/event/calumet-band-3/
LOCATION:17332 S. Oak Park Ave\, Tinley Park\, IL\, 60477\, United States
CATEGORIES:Ed & Joes,Live Music,Social
ATTACH;FMTTYPE=image/jpeg:https://ednjoes.com/wp-content/uploads/2021/09/Calumet-Band-Cover.jpg
END:VEVENT
BEGIN:VEVENT
DTSTART;VALUE=DATE:20251117
DTEND;VALUE=DATE:20251118
DTSTAMP:20260423T234849
CREATED:20231122T025033Z
LAST-MODIFIED:20240128T195358Z
UID:10002531-1763337600-1763423999@ednjoes.com
SUMMARY:Closed
DESCRIPTION:
URL:https://ednjoes.com/event/closed-3-2/2025-11-17/
LOCATION:17332 S. Oak Park Ave\, Tinley Park\, IL\, 60477\, United States
CATEGORIES:Closed,Ed & Joes,Kid's,Live Music,Social,Sporting
END:VEVENT
BEGIN:VEVENT
DTSTART;TZID=America/Chicago:20251119T180000
DTEND;TZID=America/Chicago:20251119T210000
DTSTAMP:20260423T234849
CREATED:20231122T023345Z
LAST-MODIFIED:20251112T154535Z
UID:10002806-1763575200-1763586000@ednjoes.com
SUMMARY:Open Mic Night
DESCRIPTION:
URL:https://ednjoes.com/event/open-mic-night/2025-11-19/
LOCATION:17332 S. Oak Park Ave\, Tinley Park\, IL\, 60477\, United States
CATEGORIES:Ed & Joes,Live Music,Social
ATTACH;FMTTYPE=image/jpeg:https://ednjoes.com/wp-content/uploads/2022/03/Open-Mic-Night.jpg
END:VEVENT
BEGIN:VEVENT
DTSTART;TZID=America/Chicago:20251120T190000
DTEND;TZID=America/Chicago:20251120T210000
DTSTAMP:20260423T234849
CREATED:20231122T023558Z
LAST-MODIFIED:20251112T154420Z
UID:10003070-1763665200-1763672400@ednjoes.com
SUMMARY:Trivia Night
DESCRIPTION:
URL:https://ednjoes.com/event/trivia-night-2-2-2/2025-11-20/
LOCATION:17332 S. Oak Park Ave\, Tinley Park\, IL\, 60477\, United States
CATEGORIES:Ed & Joes,Live Music,Social
ATTACH;FMTTYPE=image/jpeg:https://ednjoes.com/wp-content/uploads/2021/05/Triva-Night.jpg
END:VEVENT
BEGIN:VEVENT
DTSTART;TZID=America/Chicago:20251121T190000
DTEND;TZID=America/Chicago:20251121T220000
DTSTAMP:20260423T234849
CREATED:20250829T180526Z
LAST-MODIFIED:20250829T180526Z
UID:10004034-1763751600-1763762400@ednjoes.com
SUMMARY:Jack Byron
DESCRIPTION:Jack Byron is a singer-songwriter from the south side of Chicago. A self-taught musician\, Jack’s musical heroes range from the Beatles\, Radiohead\, Bob Dylan\, Beck\, Van Morrison\, and John Mayer. He picked up the guitar and piano in high school and wrote his first song at 17 and has been honing his craft ever since. \n  \n  \n  \n  \nhttps://www.facebook.com/jackbyronmusic
URL:https://ednjoes.com/event/jack-byron-3/
LOCATION:17332 S. Oak Park Ave\, Tinley Park\, IL\, 60477\, United States
CATEGORIES:Ed & Joes,Live Music,Social
ATTACH;FMTTYPE=image/jpeg:https://ednjoes.com/wp-content/uploads/2021/10/Jack-Byron-pic.jpg
END:VEVENT
BEGIN:VEVENT
DTSTART;TZID=America/Chicago:20251122T190000
DTEND;TZID=America/Chicago:20251122T220000
DTSTAMP:20260423T234849
CREATED:20250829T180545Z
LAST-MODIFIED:20250829T180545Z
UID:10004035-1763838000-1763848800@ednjoes.com
SUMMARY:The Sidecars
DESCRIPTION:Tara and the Sidecars are a classic country band covering everything from Johnny Cash to Maren Morris with a splash of Pop Hits.
URL:https://ednjoes.com/event/the-sidecars-2/
LOCATION:17332 S. Oak Park Ave\, Tinley Park\, IL\, 60477\, United States
CATEGORIES:Ed & Joes,Live Music,Social
ATTACH;FMTTYPE=image/jpeg:https://ednjoes.com/wp-content/uploads/2024/02/Tara-and-the-Sidecars.jpg
END:VEVENT
BEGIN:VEVENT
DTSTART;VALUE=DATE:20251124
DTEND;VALUE=DATE:20251125
DTSTAMP:20260423T234849
CREATED:20231122T025033Z
LAST-MODIFIED:20240128T195358Z
UID:10002532-1763942400-1764028799@ednjoes.com
SUMMARY:Closed
DESCRIPTION:
URL:https://ednjoes.com/event/closed-3-2/2025-11-24/
LOCATION:17332 S. Oak Park Ave\, Tinley Park\, IL\, 60477\, United States
CATEGORIES:Closed,Ed & Joes,Kid's,Live Music,Social,Sporting
END:VEVENT
BEGIN:VEVENT
DTSTART;TZID=America/Chicago:20251126T190000
DTEND;TZID=America/Chicago:20251126T220000
DTSTAMP:20260423T234849
CREATED:20251112T154000Z
LAST-MODIFIED:20251112T154000Z
UID:10004087-1764183600-1764194400@ednjoes.com
SUMMARY:Clean Slate
DESCRIPTION:Clean Slate comes in with a mysterious past\, an unknown future\, and a reputation for playing familiar songs from our collective rock’n’roll past. You know\, stuff like The Monkeys\, Stones and Beatles to Hendrix\, The Doors and Led Zeppelin Clean Slate reappears Friday from somewhere vaguely local and they usually bring a bunch of friends with ‘em and the place gets all\, you know\, friendly and everything. \nhttps://www.facebook.com/cleanslate.tinleypark
URL:https://ednjoes.com/event/clean-slate-6/
LOCATION:17332 S. Oak Park Ave\, Tinley Park\, IL\, 60477\, United States
CATEGORIES:Ed & Joes,Live Music,Social
ATTACH;FMTTYPE=image/jpeg:https://ednjoes.com/wp-content/uploads/2024/02/275050975_10158951931027945_744958785557786920_n.jpg
END:VEVENT
BEGIN:VEVENT
DTSTART;VALUE=DATE:20251127
DTEND;VALUE=DATE:20251128
DTSTAMP:20260423T234849
CREATED:20251112T152133Z
LAST-MODIFIED:20251112T154128Z
UID:10004081-1764201600-1764287999@ednjoes.com
SUMMARY:ThanksgivingClosed
DESCRIPTION:
URL:https://ednjoes.com/event/closed-3/
LOCATION:17332 S. Oak Park Ave\, Tinley Park\, IL\, 60477\, United States
CATEGORIES:Closed,Ed & Joes,Kid's,Live Music,Social,Sporting
END:VEVENT
BEGIN:VEVENT
DTSTART;TZID=America/Chicago:20251128T190000
DTEND;TZID=America/Chicago:20251128T220000
DTSTAMP:20260423T234849
CREATED:20250829T180604Z
LAST-MODIFIED:20250829T180604Z
UID:10004036-1764356400-1764367200@ednjoes.com
SUMMARY:Mike and Jess
DESCRIPTION:Mike and Jess Music are an Acoustic Duo that plays popular rock\, pop\, alternative\, r&b\, today’s hits\, and some country covers
URL:https://ednjoes.com/event/mike-and-jess-3/
LOCATION:17332 S. Oak Park Ave\, Tinley Park\, IL\, 60477\, United States
CATEGORIES:Ed & Joes,Live Music,Social
ATTACH;FMTTYPE=image/jpeg:https://ednjoes.com/wp-content/uploads/2023/12/Mike-and-Jess-Music.jpg
END:VEVENT
BEGIN:VEVENT
DTSTART;TZID=America/Chicago:20251129T190000
DTEND;TZID=America/Chicago:20251129T220000
DTSTAMP:20260423T234849
CREATED:20250829T180751Z
LAST-MODIFIED:20250917T195024Z
UID:10004037-1764442800-1764453600@ednjoes.com
SUMMARY:Bock & Roll
DESCRIPTION:Boch & Roll is an Acoustic duo comprised of Allison Bockel (vocals) and Terry Rollins (acoustic guitar\, fiddle\, vocals) who are instructors from School of Rock Mokena bringing powerful female vocal covers from the 60s through today. Melissa Etheridge\, Sheryl Crow\, Linda Ronstadt\, Alanis Morissette\, Roberta Flack\, Patsy Cline\, and more!
URL:https://ednjoes.com/event/bock-roll/
LOCATION:17332 S. Oak Park Ave\, Tinley Park\, IL\, 60477\, United States
CATEGORIES:Ed & Joes,Live Music,Social
ATTACH;FMTTYPE=image/jpeg:https://ednjoes.com/wp-content/uploads/2025/08/Bock-and-Roll.jpg
END:VEVENT
END:VCALENDAR