BEGIN:VCALENDAR
VERSION:2.0
PRODID:-//Ed &amp; Joe&#039;s Restaurant &amp; Pizzeria - ECPv6.15.20//NONSGML v1.0//EN
CALSCALE:GREGORIAN
METHOD:PUBLISH
X-WR-CALNAME:Ed &amp; Joe&#039;s Restaurant &amp; Pizzeria
X-ORIGINAL-URL:https://ednjoes.com
X-WR-CALDESC:Events for Ed &amp; Joe&#039;s Restaurant &amp; Pizzeria
REFRESH-INTERVAL;VALUE=DURATION:PT1H
X-Robots-Tag:noindex
X-PUBLISHED-TTL:PT1H
BEGIN:VTIMEZONE
TZID:America/Chicago
BEGIN:DAYLIGHT
TZOFFSETFROM:-0600
TZOFFSETTO:-0500
TZNAME:CDT
DTSTART:20240310T080000
END:DAYLIGHT
BEGIN:STANDARD
TZOFFSETFROM:-0500
TZOFFSETTO:-0600
TZNAME:CST
DTSTART:20241103T070000
END:STANDARD
BEGIN:DAYLIGHT
TZOFFSETFROM:-0600
TZOFFSETTO:-0500
TZNAME:CDT
DTSTART:20250309T080000
END:DAYLIGHT
BEGIN:STANDARD
TZOFFSETFROM:-0500
TZOFFSETTO:-0600
TZNAME:CST
DTSTART:20251102T070000
END:STANDARD
BEGIN:DAYLIGHT
TZOFFSETFROM:-0600
TZOFFSETTO:-0500
TZNAME:CDT
DTSTART:20260308T080000
END:DAYLIGHT
BEGIN:STANDARD
TZOFFSETFROM:-0500
TZOFFSETTO:-0600
TZNAME:CST
DTSTART:20261101T070000
END:STANDARD
END:VTIMEZONE
BEGIN:VEVENT
DTSTART;VALUE=DATE:20250602
DTEND;VALUE=DATE:20250603
DTSTAMP:20260424T152827
CREATED:20231122T025033Z
LAST-MODIFIED:20240128T195358Z
UID:10002507-1748822400-1748908799@ednjoes.com
SUMMARY:Closed
DESCRIPTION:
URL:https://ednjoes.com/event/closed-3-2/2025-06-02/
LOCATION:17332 S. Oak Park Ave\, Tinley Park\, IL\, 60477\, United States
CATEGORIES:Closed,Ed & Joes,Kid's,Live Music,Social,Sporting
END:VEVENT
BEGIN:VEVENT
DTSTART;TZID=America/Chicago:20250604T180000
DTEND;TZID=America/Chicago:20250604T210000
DTSTAMP:20260424T152827
CREATED:20231122T023345Z
LAST-MODIFIED:20251112T154535Z
UID:10002782-1749060000-1749070800@ednjoes.com
SUMMARY:Open Mic Night
DESCRIPTION:
URL:https://ednjoes.com/event/open-mic-night/2025-06-04/
LOCATION:17332 S. Oak Park Ave\, Tinley Park\, IL\, 60477\, United States
CATEGORIES:Ed & Joes,Live Music,Social
ATTACH;FMTTYPE=image/jpeg:https://ednjoes.com/wp-content/uploads/2022/03/Open-Mic-Night.jpg
END:VEVENT
BEGIN:VEVENT
DTSTART;TZID=America/Chicago:20250605T190000
DTEND;TZID=America/Chicago:20250605T210000
DTSTAMP:20260424T152827
CREATED:20231122T023558Z
LAST-MODIFIED:20251112T154420Z
UID:10003046-1749150000-1749157200@ednjoes.com
SUMMARY:Trivia Night
DESCRIPTION:
URL:https://ednjoes.com/event/trivia-night-2-2-2/2025-06-05/
LOCATION:17332 S. Oak Park Ave\, Tinley Park\, IL\, 60477\, United States
CATEGORIES:Ed & Joes,Live Music,Social
ATTACH;FMTTYPE=image/jpeg:https://ednjoes.com/wp-content/uploads/2021/05/Triva-Night.jpg
END:VEVENT
BEGIN:VEVENT
DTSTART;TZID=America/Chicago:20250606T190000
DTEND;TZID=America/Chicago:20250606T220000
DTSTAMP:20260424T152828
CREATED:20250418T171119Z
LAST-MODIFIED:20250418T171119Z
UID:10003917-1749236400-1749247200@ednjoes.com
SUMMARY:Harry Hmura Duo
DESCRIPTION:With 80 million copies sold of the world renowned video game series “Halo”\, players and fans worldwide were introduced to the blues rock fusion guitar of Harry Hmura who was featured on the first\, third and fourth soundtracks.  He has toured and recorded with Grammy Winners and blues legends\, James Cotton (Muddy Waters side man) and Sugar Blue (recorded with the legendary Rolling Stones).  He has performed internationally in North America\, Central and South America\, Mexico\, Europe and Southeast Asia. Harry has performed and shared the stage with Muddy Waters\, Buddy Guy\, Johnny Winter\, Dickey Betts\, Elvin Bishop\, Jeff Healey\, and Buddy Miles. \n  \nHarry’s performed on notable festival stages; Chicago Blues Fest\, Montreal International Jazz\, Montreux Jazz\, North Sea Jazz\, Madrid and Paris Jazz festivals.  \n 
URL:https://ednjoes.com/event/harry-hmura-duo-3/
LOCATION:17332 S. Oak Park Ave\, Tinley Park\, IL\, 60477\, United States
CATEGORIES:Ed & Joes,Live Music,Social
ATTACH;FMTTYPE=image/jpeg:https://ednjoes.com/wp-content/uploads/2023/12/Harry-Hmura.jpg
END:VEVENT
BEGIN:VEVENT
DTSTART;TZID=America/Chicago:20250607T190000
DTEND;TZID=America/Chicago:20250607T220000
DTSTAMP:20260424T152828
CREATED:20250604T185721Z
LAST-MODIFIED:20250604T185721Z
UID:10003956-1749322800-1749333600@ednjoes.com
SUMMARY:Dan Bikar
DESCRIPTION:Dan Bikar \nFrom the south suburbs of Chicago \nFormer guitar player for touring acts “phosphene” and “the unlawful”. \nCovering artist such as Luke Combs \, Chris Stapleton\,  Morgan Wallen\, Aaron Lewis\, Jason Aldean and many many more. \n 
URL:https://ednjoes.com/event/dan-bikar-6/
LOCATION:17332 S. Oak Park Ave\, Tinley Park\, IL\, 60477\, United States
CATEGORIES:Ed & Joes,Live Music,Social
ATTACH;FMTTYPE=image/jpeg:https://ednjoes.com/wp-content/uploads/2023/12/dan-bikar.jpg
END:VEVENT
BEGIN:VEVENT
DTSTART;VALUE=DATE:20250609
DTEND;VALUE=DATE:20250610
DTSTAMP:20260424T152828
CREATED:20231122T025033Z
LAST-MODIFIED:20240128T195358Z
UID:10002508-1749427200-1749513599@ednjoes.com
SUMMARY:Closed
DESCRIPTION:
URL:https://ednjoes.com/event/closed-3-2/2025-06-09/
LOCATION:17332 S. Oak Park Ave\, Tinley Park\, IL\, 60477\, United States
CATEGORIES:Closed,Ed & Joes,Kid's,Live Music,Social,Sporting
END:VEVENT
BEGIN:VEVENT
DTSTART;TZID=America/Chicago:20250611T180000
DTEND;TZID=America/Chicago:20250611T210000
DTSTAMP:20260424T152828
CREATED:20231122T023345Z
LAST-MODIFIED:20251112T154535Z
UID:10002783-1749664800-1749675600@ednjoes.com
SUMMARY:Open Mic Night
DESCRIPTION:
URL:https://ednjoes.com/event/open-mic-night/2025-06-11/
LOCATION:17332 S. Oak Park Ave\, Tinley Park\, IL\, 60477\, United States
CATEGORIES:Ed & Joes,Live Music,Social
ATTACH;FMTTYPE=image/jpeg:https://ednjoes.com/wp-content/uploads/2022/03/Open-Mic-Night.jpg
END:VEVENT
BEGIN:VEVENT
DTSTART;TZID=America/Chicago:20250612T190000
DTEND;TZID=America/Chicago:20250612T210000
DTSTAMP:20260424T152828
CREATED:20231122T023558Z
LAST-MODIFIED:20251112T154420Z
UID:10003047-1749754800-1749762000@ednjoes.com
SUMMARY:Trivia Night
DESCRIPTION:
URL:https://ednjoes.com/event/trivia-night-2-2-2/2025-06-12/
LOCATION:17332 S. Oak Park Ave\, Tinley Park\, IL\, 60477\, United States
CATEGORIES:Ed & Joes,Live Music,Social
ATTACH;FMTTYPE=image/jpeg:https://ednjoes.com/wp-content/uploads/2021/05/Triva-Night.jpg
END:VEVENT
BEGIN:VEVENT
DTSTART;TZID=America/Chicago:20250613T190000
DTEND;TZID=America/Chicago:20250613T220000
DTSTAMP:20260424T152828
CREATED:20250418T171225Z
LAST-MODIFIED:20250611T210038Z
UID:10003919-1749841200-1749852000@ednjoes.com
SUMMARY:SmackWater
DESCRIPTION:SmackWater is an acoustic performance group with a genre-defying sound and a passion for heartfelt performance. Blending warm harmonies\, intricate guitar work\, and soulful vocals\, we bring a fresh acoustic twist to everything from folk and pop to rock\, R&B\, country\, and beyond. \nWhether it’s reimagining chart-topping hits or delivering stripped-down originals\, our goal is simple: to connect with every audience through the universal language of music. With a love for the classics and a curiosity for the contemporary\, we offer something familiar yet unexpected music that resonates\, no matter your taste. \nLed by Ken Becker from the south suburbs of Chicago\, for over 20 years\, SmackWater has performed numerous intimate venues\, festivals\, weddings\, and private events. This acoustic group delivers dynamic performances that feel personal\, timeless\, and always in tune with the crowd.
URL:https://ednjoes.com/event/joe-orozco-6/
LOCATION:17332 S. Oak Park Ave\, Tinley Park\, IL\, 60477\, United States
CATEGORIES:Ed & Joes,Live Music,Social
ATTACH;FMTTYPE=image/png:https://ednjoes.com/wp-content/uploads/2025/04/SmackWater-1.png
END:VEVENT
BEGIN:VEVENT
DTSTART;TZID=America/Chicago:20250614T190000
DTEND;TZID=America/Chicago:20250614T220000
DTSTAMP:20260424T152828
CREATED:20250418T171249Z
LAST-MODIFIED:20250418T171249Z
UID:10003920-1749927600-1749938400@ednjoes.com
SUMMARY:Mokena Mike & John Weeks
DESCRIPTION:Mokena Mike (guitar/vocals) and John Weeks (violin/viola) have performed as a duo for years playing a wide variety of musical styles\, including folk\, country\, pop and classic rock. The duo covers songs from a diverse set of artists and songwriters\, from John Prine to Jethro Tull to Jason Isbell and John Denver\, and most everything in between. Mike has been called ‘the human jukebox’ because he knows hundreds of songs enabling him to play most of your requests. John is an incredibly gifted violinist with abilities that will amaze you. A truly unique and talented duo! \nFacebook: https://www.facebook.com/mokena.mike.3
URL:https://ednjoes.com/event/mokena-mike-john-weeks-5/
LOCATION:17332 S. Oak Park Ave\, Tinley Park\, IL\, 60477\, United States
CATEGORIES:Ed & Joes,Live Music,Social
ATTACH;FMTTYPE=image/jpeg:https://ednjoes.com/wp-content/uploads/2022/08/Mokena-Mike-n-John-Weeks.jpg
END:VEVENT
BEGIN:VEVENT
DTSTART;VALUE=DATE:20250616
DTEND;VALUE=DATE:20250617
DTSTAMP:20260424T152828
CREATED:20231122T025033Z
LAST-MODIFIED:20240128T195358Z
UID:10002509-1750032000-1750118399@ednjoes.com
SUMMARY:Closed
DESCRIPTION:
URL:https://ednjoes.com/event/closed-3-2/2025-06-16/
LOCATION:17332 S. Oak Park Ave\, Tinley Park\, IL\, 60477\, United States
CATEGORIES:Closed,Ed & Joes,Kid's,Live Music,Social,Sporting
END:VEVENT
BEGIN:VEVENT
DTSTART;TZID=America/Chicago:20250618T180000
DTEND;TZID=America/Chicago:20250618T210000
DTSTAMP:20260424T152828
CREATED:20231122T023345Z
LAST-MODIFIED:20251112T154535Z
UID:10002784-1750269600-1750280400@ednjoes.com
SUMMARY:Open Mic Night
DESCRIPTION:
URL:https://ednjoes.com/event/open-mic-night/2025-06-18/
LOCATION:17332 S. Oak Park Ave\, Tinley Park\, IL\, 60477\, United States
CATEGORIES:Ed & Joes,Live Music,Social
ATTACH;FMTTYPE=image/jpeg:https://ednjoes.com/wp-content/uploads/2022/03/Open-Mic-Night.jpg
END:VEVENT
BEGIN:VEVENT
DTSTART;TZID=America/Chicago:20250619T190000
DTEND;TZID=America/Chicago:20250619T210000
DTSTAMP:20260424T152829
CREATED:20231122T023558Z
LAST-MODIFIED:20251112T154420Z
UID:10003048-1750359600-1750366800@ednjoes.com
SUMMARY:Trivia Night
DESCRIPTION:
URL:https://ednjoes.com/event/trivia-night-2-2-2/2025-06-19/
LOCATION:17332 S. Oak Park Ave\, Tinley Park\, IL\, 60477\, United States
CATEGORIES:Ed & Joes,Live Music,Social
ATTACH;FMTTYPE=image/jpeg:https://ednjoes.com/wp-content/uploads/2021/05/Triva-Night.jpg
END:VEVENT
BEGIN:VEVENT
DTSTART;TZID=America/Chicago:20250620T190000
DTEND;TZID=America/Chicago:20250620T220000
DTSTAMP:20260424T152829
CREATED:20250418T171319Z
LAST-MODIFIED:20250418T171319Z
UID:10003921-1750446000-1750456800@ednjoes.com
SUMMARY:Bernie Glim
DESCRIPTION:Pull your best boots on\, angle that Stetson just so\, and then saddle up and ride on out for an evening with this master entertainer and his trusty cowboy cohort Al Joseph as they blaze through the country landscape of popular hits. Bernie and the Al are true professionals who know how to put on a show. Why\, they been wranglin’ songs purt’ near forever and will surely have you singing right along. \nFacebook: https://www.facebook.com/bernie.glim
URL:https://ednjoes.com/event/bernie-glim-8/
LOCATION:17332 S. Oak Park Ave\, Tinley Park\, IL\, 60477\, United States
CATEGORIES:Ed & Joes,Live Music,Social
ATTACH;FMTTYPE=image/jpeg:https://ednjoes.com/wp-content/uploads/2021/05/Bernie-Glim-Solo.jpg
END:VEVENT
BEGIN:VEVENT
DTSTART;TZID=America/Chicago:20250621T190000
DTEND;TZID=America/Chicago:20250621T220000
DTSTAMP:20260424T152829
CREATED:20250418T171347Z
LAST-MODIFIED:20250418T171347Z
UID:10003922-1750532400-1750543200@ednjoes.com
SUMMARY:John Devlin
DESCRIPTION:John Devlin \nHonestly\, John Devlin is one of those rare performers who just seems to have it all: a stage presence that forever reveals a feverish passion for performing along with downright lovable humility…add to that a voice that fills the room with flawless intonation\, an uncanny sense of rhythm…exceptional guitar chops…a song bag with something for everyone…indeed\, he really does have it all…come on in and hear for yourselves! \n 
URL:https://ednjoes.com/event/john-devlin-4/
LOCATION:17332 S. Oak Park Ave\, Tinley Park\, IL\, 60477\, United States
CATEGORIES:Ed & Joes,Live Music,Social
ATTACH;FMTTYPE=image/jpeg:https://ednjoes.com/wp-content/uploads/2022/04/John-Devlin.jpg
END:VEVENT
BEGIN:VEVENT
DTSTART;VALUE=DATE:20250623
DTEND;VALUE=DATE:20250624
DTSTAMP:20260424T152829
CREATED:20231122T025033Z
LAST-MODIFIED:20240128T195358Z
UID:10002510-1750636800-1750723199@ednjoes.com
SUMMARY:Closed
DESCRIPTION:
URL:https://ednjoes.com/event/closed-3-2/2025-06-23/
LOCATION:17332 S. Oak Park Ave\, Tinley Park\, IL\, 60477\, United States
CATEGORIES:Closed,Ed & Joes,Kid's,Live Music,Social,Sporting
END:VEVENT
BEGIN:VEVENT
DTSTART;TZID=America/Chicago:20250625T180000
DTEND;TZID=America/Chicago:20250625T210000
DTSTAMP:20260424T152829
CREATED:20231122T023345Z
LAST-MODIFIED:20251112T154535Z
UID:10002785-1750874400-1750885200@ednjoes.com
SUMMARY:Open Mic Night
DESCRIPTION:
URL:https://ednjoes.com/event/open-mic-night/2025-06-25/
LOCATION:17332 S. Oak Park Ave\, Tinley Park\, IL\, 60477\, United States
CATEGORIES:Ed & Joes,Live Music,Social
ATTACH;FMTTYPE=image/jpeg:https://ednjoes.com/wp-content/uploads/2022/03/Open-Mic-Night.jpg
END:VEVENT
BEGIN:VEVENT
DTSTART;TZID=America/Chicago:20250626T190000
DTEND;TZID=America/Chicago:20250626T210000
DTSTAMP:20260424T152829
CREATED:20231122T023558Z
LAST-MODIFIED:20251112T154420Z
UID:10003049-1750964400-1750971600@ednjoes.com
SUMMARY:Trivia Night
DESCRIPTION:
URL:https://ednjoes.com/event/trivia-night-2-2-2/2025-06-26/
LOCATION:17332 S. Oak Park Ave\, Tinley Park\, IL\, 60477\, United States
CATEGORIES:Ed & Joes,Live Music,Social
ATTACH;FMTTYPE=image/jpeg:https://ednjoes.com/wp-content/uploads/2021/05/Triva-Night.jpg
END:VEVENT
BEGIN:VEVENT
DTSTART;TZID=America/Chicago:20250627T190000
DTEND;TZID=America/Chicago:20250627T220000
DTSTAMP:20260424T152829
CREATED:20250418T171412Z
LAST-MODIFIED:20250418T171412Z
UID:10003923-1751050800-1751061600@ednjoes.com
SUMMARY:Dave Gorka
DESCRIPTION:Dave Gorka has been entertaining audiences with Classic Rock\, Pop\, Country and some of your favorite oldies.  Style of music consist of cover artists: Niall Horan\, Amy Winehouse\, Johnny Cash\, Chris Stapleton\, Simon and Garfunkel\, Beatles\, Eagles\, Allman Brothers\, Marshall Tucker Band and many more. \nFacebook: https://www.facebook.com/dave.gorka \n 
URL:https://ednjoes.com/event/dave-gorka-2/
LOCATION:17332 S. Oak Park Ave\, Tinley Park\, IL\, 60477\, United States
CATEGORIES:Ed & Joes,Live Music,Social
ATTACH;FMTTYPE=image/jpeg:https://ednjoes.com/wp-content/uploads/2022/12/Dave-Gorka.jpg
END:VEVENT
BEGIN:VEVENT
DTSTART;TZID=America/Chicago:20250628T190000
DTEND;TZID=America/Chicago:20250628T220000
DTSTAMP:20260424T152829
CREATED:20250418T171445Z
LAST-MODIFIED:20250418T171445Z
UID:10003924-1751137200-1751148000@ednjoes.com
SUMMARY:Still Grass
DESCRIPTION:Annie and Kevin Kincaid\, Hall Hanes\,  Jim Williams\, and Scott Bonshire:  A harvest of tone: Fiddle\, Guitar\, Bass and Harp\, as natural as can be…blending rosewood\, spruce\, mahogany\, maple\, harp reeds\, picks and bows and foot stompin’ soles … a Celebration of Song with a Bluegrass Edge!  The set list includes their own homespun numbers along with covers of the great American masters: John Prine\, Peter Rowan\, Lyle Lovett\, Kevin Welch\, Guy Clark\, Steve Earle\, Gillian Welsh\, John Hiatt\, Johnny Cash…you get the picture…it’s all about the songs and the sharing.
URL:https://ednjoes.com/event/still-grass-8/
LOCATION:17332 S. Oak Park Ave\, Tinley Park\, IL\, 60477\, United States
CATEGORIES:Ed & Joes,Live Music,Social
ATTACH;FMTTYPE=image/png:https://ednjoes.com/wp-content/uploads/2021/08/StillGrass-2019.png
END:VEVENT
BEGIN:VEVENT
DTSTART;VALUE=DATE:20250630
DTEND;VALUE=DATE:20250701
DTSTAMP:20260424T152829
CREATED:20231122T025033Z
LAST-MODIFIED:20240128T195358Z
UID:10002511-1751241600-1751327999@ednjoes.com
SUMMARY:Closed
DESCRIPTION:
URL:https://ednjoes.com/event/closed-3-2/2025-06-30/
LOCATION:17332 S. Oak Park Ave\, Tinley Park\, IL\, 60477\, United States
CATEGORIES:Closed,Ed & Joes,Kid's,Live Music,Social,Sporting
END:VEVENT
END:VCALENDAR