BEGIN:VCALENDAR
VERSION:2.0
PRODID:-//Ed &amp; Joe&#039;s Restaurant &amp; Pizzeria - ECPv6.15.20//NONSGML v1.0//EN
CALSCALE:GREGORIAN
METHOD:PUBLISH
X-ORIGINAL-URL:https://ednjoes.com
X-WR-CALDESC:Events for Ed &amp; Joe&#039;s Restaurant &amp; Pizzeria
REFRESH-INTERVAL;VALUE=DURATION:PT1H
X-Robots-Tag:noindex
X-PUBLISHED-TTL:PT1H
BEGIN:VTIMEZONE
TZID:America/Chicago
BEGIN:DAYLIGHT
TZOFFSETFROM:-0600
TZOFFSETTO:-0500
TZNAME:CDT
DTSTART:20240310T080000
END:DAYLIGHT
BEGIN:STANDARD
TZOFFSETFROM:-0500
TZOFFSETTO:-0600
TZNAME:CST
DTSTART:20241103T070000
END:STANDARD
BEGIN:DAYLIGHT
TZOFFSETFROM:-0600
TZOFFSETTO:-0500
TZNAME:CDT
DTSTART:20250309T080000
END:DAYLIGHT
BEGIN:STANDARD
TZOFFSETFROM:-0500
TZOFFSETTO:-0600
TZNAME:CST
DTSTART:20251102T070000
END:STANDARD
BEGIN:DAYLIGHT
TZOFFSETFROM:-0600
TZOFFSETTO:-0500
TZNAME:CDT
DTSTART:20260308T080000
END:DAYLIGHT
BEGIN:STANDARD
TZOFFSETFROM:-0500
TZOFFSETTO:-0600
TZNAME:CST
DTSTART:20261101T070000
END:STANDARD
END:VTIMEZONE
BEGIN:VEVENT
DTSTART;TZID=America/Chicago:20250501T190000
DTEND;TZID=America/Chicago:20250501T210000
DTSTAMP:20260424T212053
CREATED:20231122T023558Z
LAST-MODIFIED:20251112T154420Z
UID:10003041-1746126000-1746133200@ednjoes.com
SUMMARY:Trivia Night
DESCRIPTION:
URL:https://ednjoes.com/event/trivia-night-2-2-2/2025-05-01/
LOCATION:17332 S. Oak Park Ave\, Tinley Park\, IL\, 60477\, United States
CATEGORIES:Ed & Joes,Live Music,Social
ATTACH;FMTTYPE=image/jpeg:https://ednjoes.com/wp-content/uploads/2021/05/Triva-Night.jpg
END:VEVENT
BEGIN:VEVENT
DTSTART;TZID=America/Chicago:20250502T190000
DTEND;TZID=America/Chicago:20250502T220000
DTSTAMP:20260424T212053
CREATED:20250418T171710Z
LAST-MODIFIED:20250418T171710Z
UID:10003926-1746212400-1746223200@ednjoes.com
SUMMARY:Jack Byron
DESCRIPTION:Jack Byron is a singer-songwriter from the south side of Chicago. A self-taught musician\, Jack’s musical heroes range from the Beatles\, Radiohead\, Bob Dylan\, Beck\, Van Morrison\, and John Mayer. He picked up the guitar and piano in high school and wrote his first song at 17 and has been honing his craft ever since. \n  \n  \n  \n  \nhttps://www.facebook.com/jackbyronmusic
URL:https://ednjoes.com/event/jack-byron-2/
LOCATION:17332 S. Oak Park Ave\, Tinley Park\, IL\, 60477\, United States
CATEGORIES:Ed & Joes,Live Music,Social
ATTACH;FMTTYPE=image/jpeg:https://ednjoes.com/wp-content/uploads/2021/10/Jack-Byron-pic.jpg
END:VEVENT
BEGIN:VEVENT
DTSTART;TZID=America/Chicago:20250503T190000
DTEND;TZID=America/Chicago:20250503T220000
DTSTAMP:20260424T212053
CREATED:20250418T171743Z
LAST-MODIFIED:20250418T171743Z
UID:10003927-1746298800-1746309600@ednjoes.com
SUMMARY:Dave Gorka
DESCRIPTION:Dave Gorka has been entertaining audiences with Classic Rock\, Pop\, Country and some of your favorite oldies.  Style of music consist of cover artists: Niall Horan\, Amy Winehouse\, Johnny Cash\, Chris Stapleton\, Simon and Garfunkel\, Beatles\, Eagles\, Allman Brothers\, Marshall Tucker Band and many more. \nFacebook: https://www.facebook.com/dave.gorka \n 
URL:https://ednjoes.com/event/dave-gorka-7/
LOCATION:17332 S. Oak Park Ave\, Tinley Park\, IL\, 60477\, United States
CATEGORIES:Ed & Joes,Live Music,Social
ATTACH;FMTTYPE=image/jpeg:https://ednjoes.com/wp-content/uploads/2022/12/Dave-Gorka.jpg
END:VEVENT
BEGIN:VEVENT
DTSTART;VALUE=DATE:20250505
DTEND;VALUE=DATE:20250506
DTSTAMP:20260424T212053
CREATED:20231122T025033Z
LAST-MODIFIED:20240128T195358Z
UID:10002503-1746403200-1746489599@ednjoes.com
SUMMARY:Closed
DESCRIPTION:
URL:https://ednjoes.com/event/closed-3-2/2025-05-05/
LOCATION:17332 S. Oak Park Ave\, Tinley Park\, IL\, 60477\, United States
CATEGORIES:Closed,Ed & Joes,Kid's,Live Music,Social,Sporting
END:VEVENT
BEGIN:VEVENT
DTSTART;TZID=America/Chicago:20250507T180000
DTEND;TZID=America/Chicago:20250507T210000
DTSTAMP:20260424T212053
CREATED:20231122T023345Z
LAST-MODIFIED:20251112T154535Z
UID:10002778-1746640800-1746651600@ednjoes.com
SUMMARY:Open Mic Night
DESCRIPTION:
URL:https://ednjoes.com/event/open-mic-night/2025-05-07/
LOCATION:17332 S. Oak Park Ave\, Tinley Park\, IL\, 60477\, United States
CATEGORIES:Ed & Joes,Live Music,Social
ATTACH;FMTTYPE=image/jpeg:https://ednjoes.com/wp-content/uploads/2022/03/Open-Mic-Night.jpg
END:VEVENT
BEGIN:VEVENT
DTSTART;TZID=America/Chicago:20250508T190000
DTEND;TZID=America/Chicago:20250508T210000
DTSTAMP:20260424T212053
CREATED:20231122T023558Z
LAST-MODIFIED:20251112T154420Z
UID:10003042-1746730800-1746738000@ednjoes.com
SUMMARY:Trivia Night
DESCRIPTION:
URL:https://ednjoes.com/event/trivia-night-2-2-2/2025-05-08/
LOCATION:17332 S. Oak Park Ave\, Tinley Park\, IL\, 60477\, United States
CATEGORIES:Ed & Joes,Live Music,Social
ATTACH;FMTTYPE=image/jpeg:https://ednjoes.com/wp-content/uploads/2021/05/Triva-Night.jpg
END:VEVENT
BEGIN:VEVENT
DTSTART;TZID=America/Chicago:20250509T190000
DTEND;TZID=America/Chicago:20250509T220000
DTSTAMP:20260424T212054
CREATED:20250418T171809Z
LAST-MODIFIED:20250418T171809Z
UID:10003928-1746817200-1746828000@ednjoes.com
SUMMARY:Jim Guthrie
DESCRIPTION:Jim Guthrie is a solo acoustic musician covering Pop\, Rock\, Country and Motown hits from the 60s through today.
URL:https://ednjoes.com/event/jim-guthrie/
LOCATION:17332 S. Oak Park Ave\, Tinley Park\, IL\, 60477\, United States
CATEGORIES:Ed & Joes,Live Music,Social
ATTACH;FMTTYPE=image/jpeg:https://ednjoes.com/wp-content/uploads/2024/02/Jim-Guthrie.jpg
END:VEVENT
BEGIN:VEVENT
DTSTART;TZID=America/Chicago:20250510T190000
DTEND;TZID=America/Chicago:20250510T220000
DTSTAMP:20260424T212054
CREATED:20250418T171843Z
LAST-MODIFIED:20250418T171843Z
UID:10003929-1746903600-1746914400@ednjoes.com
SUMMARY:Calumet Band
DESCRIPTION:I just smile and shake my head when I hear these guys. They are that good. Ya gotta see ‘em! Terry Swanson came in to an Open Mic and brought a cd of his band’s work. We listened\, we liked\, and we booked. They call it eclectic rock and soul\, and I call it great playing. For sheer chops and versatility\, this band is as good as it gets around here. Terry plays guitar\, John Shubat bass\, Peg Shaffer drums\, and Sonny Lee Tritt plays sax. \nFacebook: https://www.facebook.com/TheCalumetBand \n 
URL:https://ednjoes.com/event/calumet-band-2/
LOCATION:17332 S. Oak Park Ave\, Tinley Park\, IL\, 60477\, United States
CATEGORIES:Ed & Joes,Live Music,Social
ATTACH;FMTTYPE=image/jpeg:https://ednjoes.com/wp-content/uploads/2021/09/Calumet-Band-Cover.jpg
END:VEVENT
BEGIN:VEVENT
DTSTART;VALUE=DATE:20250512
DTEND;VALUE=DATE:20250513
DTSTAMP:20260424T212054
CREATED:20231122T025033Z
LAST-MODIFIED:20240128T195358Z
UID:10002504-1747008000-1747094399@ednjoes.com
SUMMARY:Closed
DESCRIPTION:
URL:https://ednjoes.com/event/closed-3-2/2025-05-12/
LOCATION:17332 S. Oak Park Ave\, Tinley Park\, IL\, 60477\, United States
CATEGORIES:Closed,Ed & Joes,Kid's,Live Music,Social,Sporting
END:VEVENT
BEGIN:VEVENT
DTSTART;TZID=America/Chicago:20250514T180000
DTEND;TZID=America/Chicago:20250514T210000
DTSTAMP:20260424T212054
CREATED:20231122T023345Z
LAST-MODIFIED:20251112T154535Z
UID:10002779-1747245600-1747256400@ednjoes.com
SUMMARY:Open Mic Night
DESCRIPTION:
URL:https://ednjoes.com/event/open-mic-night/2025-05-14/
LOCATION:17332 S. Oak Park Ave\, Tinley Park\, IL\, 60477\, United States
CATEGORIES:Ed & Joes,Live Music,Social
ATTACH;FMTTYPE=image/jpeg:https://ednjoes.com/wp-content/uploads/2022/03/Open-Mic-Night.jpg
END:VEVENT
BEGIN:VEVENT
DTSTART;TZID=America/Chicago:20250515T190000
DTEND;TZID=America/Chicago:20250515T210000
DTSTAMP:20260424T212054
CREATED:20231122T023558Z
LAST-MODIFIED:20251112T154420Z
UID:10003043-1747335600-1747342800@ednjoes.com
SUMMARY:Trivia Night
DESCRIPTION:
URL:https://ednjoes.com/event/trivia-night-2-2-2/2025-05-15/
LOCATION:17332 S. Oak Park Ave\, Tinley Park\, IL\, 60477\, United States
CATEGORIES:Ed & Joes,Live Music,Social
ATTACH;FMTTYPE=image/jpeg:https://ednjoes.com/wp-content/uploads/2021/05/Triva-Night.jpg
END:VEVENT
BEGIN:VEVENT
DTSTART;TZID=America/Chicago:20250516T190000
DTEND;TZID=America/Chicago:20250516T220000
DTSTAMP:20260424T212054
CREATED:20250418T171915Z
LAST-MODIFIED:20250418T171915Z
UID:10003930-1747422000-1747432800@ednjoes.com
SUMMARY:Mark Gorka
DESCRIPTION:Mark Gorka is an accomplished solo singer & acoustic guitarist entertaining audiences all over the Chicagoland area. Besides Mark’s solid vocals and guitar playing\, his uniqueness undoubtedly lies in his repertoire. Mark plays well-known songs of many genres from today’s Pop/Rock/Country all the way back to the 60’s. When Mark is performing\, expect to hear songs from the Beatles\, Van Morrison\, The Monkeys\, America\, Hootie and The Blowfish to John Mayer\, Bon Jovi\, Matchbox 20\, Zac Brown\, Darius Rucker\, Thomas Rhett\, Niall Horan\, Sam Hunt and many more. \nFacebook: https://www.facebook.com/markgorkaacoustic \n 
URL:https://ednjoes.com/event/mark-gorka-7/
LOCATION:17332 S. Oak Park Ave\, Tinley Park\, IL\, 60477\, United States
CATEGORIES:Ed & Joes,Live Music,Social
ATTACH;FMTTYPE=image/jpeg:https://ednjoes.com/wp-content/uploads/2024/01/FB_IMG_1699909371317.jpg
END:VEVENT
BEGIN:VEVENT
DTSTART;TZID=America/Chicago:20250517T190000
DTEND;TZID=America/Chicago:20250517T220000
DTSTAMP:20260424T212054
CREATED:20250418T171945Z
LAST-MODIFIED:20250418T171945Z
UID:10003931-1747508400-1747519200@ednjoes.com
SUMMARY:Clean Slate
DESCRIPTION:Clean Slate comes in with a mysterious past\, an unknown future\, and a reputation for playing familiar songs from our collective rock’n’roll past. You know\, stuff like The Monkeys\, Stones and Beatles to Hendrix\, The Doors and Led Zeppelin Clean Slate reappears Friday from somewhere vaguely local and they usually bring a bunch of friends with ‘em and the place gets all\, you know\, friendly and everything. \nhttps://www.facebook.com/cleanslate.tinleypark
URL:https://ednjoes.com/event/clean-slate-5/
LOCATION:17332 S. Oak Park Ave\, Tinley Park\, IL\, 60477\, United States
CATEGORIES:Ed & Joes,Live Music,Social
ATTACH;FMTTYPE=image/jpeg:https://ednjoes.com/wp-content/uploads/2024/02/275050975_10158951931027945_744958785557786920_n.jpg
END:VEVENT
BEGIN:VEVENT
DTSTART;VALUE=DATE:20250519
DTEND;VALUE=DATE:20250520
DTSTAMP:20260424T212054
CREATED:20231122T025033Z
LAST-MODIFIED:20240128T195358Z
UID:10002505-1747612800-1747699199@ednjoes.com
SUMMARY:Closed
DESCRIPTION:
URL:https://ednjoes.com/event/closed-3-2/2025-05-19/
LOCATION:17332 S. Oak Park Ave\, Tinley Park\, IL\, 60477\, United States
CATEGORIES:Closed,Ed & Joes,Kid's,Live Music,Social,Sporting
END:VEVENT
BEGIN:VEVENT
DTSTART;TZID=America/Chicago:20250521T180000
DTEND;TZID=America/Chicago:20250521T210000
DTSTAMP:20260424T212054
CREATED:20231122T023345Z
LAST-MODIFIED:20251112T154535Z
UID:10002780-1747850400-1747861200@ednjoes.com
SUMMARY:Open Mic Night
DESCRIPTION:
URL:https://ednjoes.com/event/open-mic-night/2025-05-21/
LOCATION:17332 S. Oak Park Ave\, Tinley Park\, IL\, 60477\, United States
CATEGORIES:Ed & Joes,Live Music,Social
ATTACH;FMTTYPE=image/jpeg:https://ednjoes.com/wp-content/uploads/2022/03/Open-Mic-Night.jpg
END:VEVENT
BEGIN:VEVENT
DTSTART;TZID=America/Chicago:20250522T190000
DTEND;TZID=America/Chicago:20250522T210000
DTSTAMP:20260424T212055
CREATED:20231122T023558Z
LAST-MODIFIED:20251112T154420Z
UID:10003044-1747940400-1747947600@ednjoes.com
SUMMARY:Trivia Night
DESCRIPTION:
URL:https://ednjoes.com/event/trivia-night-2-2-2/2025-05-22/
LOCATION:17332 S. Oak Park Ave\, Tinley Park\, IL\, 60477\, United States
CATEGORIES:Ed & Joes,Live Music,Social
ATTACH;FMTTYPE=image/jpeg:https://ednjoes.com/wp-content/uploads/2021/05/Triva-Night.jpg
END:VEVENT
BEGIN:VEVENT
DTSTART;TZID=America/Chicago:20250523T190000
DTEND;TZID=America/Chicago:20250523T220000
DTSTAMP:20260424T212055
CREATED:20250418T172020Z
LAST-MODIFIED:20250418T172020Z
UID:10003932-1748026800-1748037600@ednjoes.com
SUMMARY:The Pallisard Brothers
DESCRIPTION:The Pallisard Brothers are singer/songwriters from the Chicago area. They blend the styles of rock\, country and soul into a stripped down acoustic ensemble. Jake and Luke play a wide variety of music ranging from the 60s to the 2000s. There really is something there for everyone. \nhttps://www.facebook.com/thepallisardbrothers \n 
URL:https://ednjoes.com/event/the-pallisard-brothers-4/
LOCATION:17332 S. Oak Park Ave\, Tinley Park\, IL\, 60477\, United States
CATEGORIES:Ed & Joes,Live Music,Social
ATTACH;FMTTYPE=image/png:https://ednjoes.com/wp-content/uploads/2021/06/JakeLukePoster-EdnJoes-Pic.png
END:VEVENT
BEGIN:VEVENT
DTSTART;TZID=America/Chicago:20250524T190000
DTEND;TZID=America/Chicago:20250524T220000
DTSTAMP:20260424T212055
CREATED:20250418T172048Z
LAST-MODIFIED:20250418T172048Z
UID:10003933-1748113200-1748124000@ednjoes.com
SUMMARY:Susan Williams & The Wright Groove
DESCRIPTION:Together for six years\, this Chicago-based duo brings their combined experience and the use of two basses to the stage to wow audiences with their unique\, funky approach to the blues. They won a regional challenge to go to Memphis in January 2018 to compete in the International Blues Challenge! Their CD\, “It’s About Time\,” showcases all originals\, nine written by vocalist/bassist Susan Williams.  It was selected to compete in the 2019 IBC in the Best Self-Produced CD category. \nSusan Williams\, lead singer and bassist\,  hails from Chicago\, and has been playing and singing professionally with her own band for over 30 years. Her powerful voice is reminiscent of Bonnie Raitt\, with a tinge of Janis Joplin\, and has been described as “rich and smoky\, with perfect raspiness.”  She has opened for Henry Lee Summer\, shared the stage with Biscuit Miller\, and was bass player for Shirley King\, daughter of B.B. King.  She has played her music across the country\, as well as in Ireland. \nChicago native\, Darryl Wright\, the other bassist in the band\, has toured the world with Mavis Staples\, among others\, and brings his incredible ability to this group in the form of masterful ensemble playing and amazing bass solos. \nhttps://www.facebook.com/Susanwilliamsband
URL:https://ednjoes.com/event/susan-williams-the-wright-groove-4/
LOCATION:17332 S. Oak Park Ave\, Tinley Park\, IL\, 60477\, United States
CATEGORIES:Ed & Joes,Live Music,Social
ATTACH;FMTTYPE=image/jpeg:https://ednjoes.com/wp-content/uploads/2023/03/Susan-Williams.jpg
END:VEVENT
BEGIN:VEVENT
DTSTART;VALUE=DATE:20250526
DTEND;VALUE=DATE:20250527
DTSTAMP:20260424T212055
CREATED:20231122T025033Z
LAST-MODIFIED:20240128T195358Z
UID:10002506-1748217600-1748303999@ednjoes.com
SUMMARY:Closed
DESCRIPTION:
URL:https://ednjoes.com/event/closed-3-2/2025-05-26/
LOCATION:17332 S. Oak Park Ave\, Tinley Park\, IL\, 60477\, United States
CATEGORIES:Closed,Ed & Joes,Kid's,Live Music,Social,Sporting
END:VEVENT
BEGIN:VEVENT
DTSTART;TZID=America/Chicago:20250528T180000
DTEND;TZID=America/Chicago:20250528T210000
DTSTAMP:20260424T212055
CREATED:20231122T023345Z
LAST-MODIFIED:20251112T154535Z
UID:10002781-1748455200-1748466000@ednjoes.com
SUMMARY:Open Mic Night
DESCRIPTION:
URL:https://ednjoes.com/event/open-mic-night/2025-05-28/
LOCATION:17332 S. Oak Park Ave\, Tinley Park\, IL\, 60477\, United States
CATEGORIES:Ed & Joes,Live Music,Social
ATTACH;FMTTYPE=image/jpeg:https://ednjoes.com/wp-content/uploads/2022/03/Open-Mic-Night.jpg
END:VEVENT
BEGIN:VEVENT
DTSTART;TZID=America/Chicago:20250529T190000
DTEND;TZID=America/Chicago:20250529T210000
DTSTAMP:20260424T212055
CREATED:20231122T023558Z
LAST-MODIFIED:20251112T154420Z
UID:10003045-1748545200-1748552400@ednjoes.com
SUMMARY:Trivia Night
DESCRIPTION:
URL:https://ednjoes.com/event/trivia-night-2-2-2/2025-05-29/
LOCATION:17332 S. Oak Park Ave\, Tinley Park\, IL\, 60477\, United States
CATEGORIES:Ed & Joes,Live Music,Social
ATTACH;FMTTYPE=image/jpeg:https://ednjoes.com/wp-content/uploads/2021/05/Triva-Night.jpg
END:VEVENT
BEGIN:VEVENT
DTSTART;TZID=America/Chicago:20250530T190000
DTEND;TZID=America/Chicago:20250530T220000
DTSTAMP:20260424T212055
CREATED:20250418T172115Z
LAST-MODIFIED:20250418T172115Z
UID:10003934-1748631600-1748642400@ednjoes.com
SUMMARY:Saul Goodman Trio
DESCRIPTION:Blood\, sweat\, passion\, and a knack for improvisation paved the way for this acoustic trio. The SaulGoodTrio coalesced from a 5 piece Rock band out of Crestwood\, IL. Their love for music\, will\, and determination has propelled the trio forward post pandemic. Feeding off the energy of their audience\, requests are always welcomed. “From Classic Rock to Alternative”\, they’re sure to deliver the goods. \nSaul Goodman Trio – www.facebook.com/SaulGoodTrio \n 
URL:https://ednjoes.com/event/saul-goodman-trio-2/
LOCATION:17332 S. Oak Park Ave\, Tinley Park\, IL\, 60477\, United States
CATEGORIES:Ed & Joes,Live Music,Social
ATTACH;FMTTYPE=image/jpeg:https://ednjoes.com/wp-content/uploads/2023/12/Sual-Goodman-Trio.jpg
END:VEVENT
BEGIN:VEVENT
DTSTART;TZID=America/Chicago:20250531T190000
DTEND;TZID=America/Chicago:20250531T220000
DTSTAMP:20260424T212055
CREATED:20250418T172717Z
LAST-MODIFIED:20250423T173107Z
UID:10003935-1748718000-1748728800@ednjoes.com
SUMMARY:Jerek and Karen
DESCRIPTION:Jerek and Karen are an upbeat acoustic duo covering all your favorite songs from the 70’s to current  hits. A wide variety of classic rock\, pop\, country and blues. Adding a twist of improvisational jamming. \n 
URL:https://ednjoes.com/event/jerek-and-karen/
LOCATION:17332 S. Oak Park Ave\, Tinley Park\, IL\, 60477\, United States
CATEGORIES:Ed & Joes,Live Music,Social
ATTACH;FMTTYPE=image/jpeg:https://ednjoes.com/wp-content/uploads/2025/04/Jerek-and-Karen.jpg
END:VEVENT
END:VCALENDAR